Results for 4.3.0 20061024 (experimental) gfortran testsuite on x86_64-unknown-linux-gnu
François-Xavier Coudert
coudert@quatramaran.ens.fr
Tue Oct 24 13:30:00 GMT 2006
LAST_UPDATED:
Native configuration is x86_64-unknown-linux-gnu
=== gfortran tests ===
Running target unix
=== gfortran Summary ===
# of expected passes 14838
# of expected failures 15
# of unsupported tests 17
/var/tmp/gfortran-20061024/ibin/gcc/testsuite/gfortran/../../gfortran version 4.3.0 20061024 (experimental)
Compiler version: 4.3.0 20061024 (experimental) gfortran
Platform: x86_64-unknown-linux-gnu
configure flags: --prefix=/var/tmp/gfortran-20061024/irun --enable-languages=c,fortran --with-gmp=/var/tmp/gfortran-20061024/gfortran_libs,;t t
More information about the Gcc-testresults
mailing list