Results for 4.2.0 20061008 (experimental) gfortran testsuite on x86_64-unknown-linux-gnu
François-Xavier Coudert
coudert@quatramaran.ens.fr
Sun Oct 8 11:31:00 GMT 2006
LAST_UPDATED:
Native configuration is x86_64-unknown-linux-gnu
=== gfortran tests ===
Running target unix
=== gfortran Summary ===
# of expected passes 14372
# of expected failures 15
# of unsupported tests 17
/var/tmp/gfortran-20061008/ibin/gcc/testsuite/gfortran/../../gfortran version 4.2.0 20061008 (experimental)
Compiler version: 4.2.0 20061008 (experimental) gfortran
Platform: x86_64-unknown-linux-gnu
configure flags: --prefix=/var/tmp/gfortran-20061008/irun --enable-languages=c,fortran --with-gmp=/var/tmp/gfortran-20061008/gfortran_libs,;t t
More information about the Gcc-testresults
mailing list