Results for 4.2.0 20061101 (prerelease) gfortran testsuite on i686-pc-linux-gnu
fxcoudert@localhost.localdomain
fxcoudert@localhost.localdomain
Wed Nov 1 05:01:00 GMT 2006
LAST_UPDATED:
Native configuration is i686-pc-linux-gnu
=== gfortran tests ===
Running target unix
=== gfortran Summary ===
# of expected passes 14900
# of expected failures 15
# of unsupported tests 16
/home/fxcoudert/gfortran_nightbuild/ibin-20061101/gcc/testsuite/gfortran/../../gfortran version 4.2.0 20061101 (prerelease)
Compiler version: 4.2.0 20061101 (prerelease) gfortran
Platform: i686-pc-linux-gnu
configure flags: --prefix=/home/fxcoudert/gfortran_nightbuild/irun-20061101 --enable-languages=c,fortran --with-gmp=/home/fxcoudert/gfortran_nightbuild/software,;t t
More information about the Gcc-testresults
mailing list