Results for 4.2.0 20060621 (experimental) testsuite on i686-pc-linux-gnu
CodeSourcery Automatic Testing System
gcc@codesourcery.com
Wed Jun 21 12:03:00 GMT 2006
LAST_UPDATED: Wed Jun 21 07:28:23 UTC 2006 (/trunk revision 114839)
Native configuration is i686-pc-linux-gnu
=== g++ tests ===
Running target unix
=== g++ Summary ===
# of expected passes 12709
# of expected failures 67
# of unsupported tests 69
/scratch/gcc/nightly-2006-06-21-mainline/i686-pc-linux-gnu/build_gcc/install/bin/c++ version 4.2.0 20060621 (experimental)
=== gcc tests ===
Running target unix
=== gcc Summary ===
# of expected passes 39786
# of expected failures 112
# of untested testcases 28
# of unsupported tests 277
/scratch/gcc/nightly-2006-06-21-mainline/i686-pc-linux-gnu/build_gcc/install/bin/gcc version 4.2.0 20060621 (experimental)
=== libstdc++ tests ===
Running target unix
ERROR: tcl error sourcing /scratch/gcc/nightly-2006-06-21-mainline/src/gcc-mainline/libstdc++-v3/testsuite/libstdc++-abi/abi.exp.
ERROR: could not compile testsuite_allocator.cc
ERROR: tcl error sourcing /scratch/gcc/nightly-2006-06-21-mainline/src/gcc-mainline/libstdc++-v3/testsuite/libstdc++-dg/conformance.exp.
ERROR: could not compile testsuite_allocator.cc
=== libstdc++ Summary ===
Compiler version: 4.2.0 20060621 (experimental)
Platform: i686-pc-linux-gnu
configure flags: --disable-nls --build=i686-pc-linux-gnu --host=i686-pc-linux-gnu --target=i686-pc-linux-gnu --enable-languages=c,c++ --enable-shared --enable-threads --disable-libmudflap --disable-libssp --disable-libgomp --disable-libstdcxx-pch --with-gnu-as --with-gnu-ld --prefix=/opt/codesourcery --with-bugurl=http://gcc.gnu.org/bugs.html --with-build-time-tools=/scratch/gcc/nightly-2006-06-21-mainline/i686-pc-linux-gnu/build_gcc/install/i686-pc-linux-gnu/bin --with-build-time-tools=/scratch/gcc/nightly-2006-06-21-mainline/i686-pc-linux-gnu/build_gcc/install/i686-pc-linux-gnu/bin
More information about the Gcc-testresults
mailing list