Results for 4.0.3 20060127 (prerelease) testsuite on i686-pc-linux-gnu
H.J. Lu
hjl@gnu-67.sc.intel.com
Fri Jan 27 22:01:00 GMT 2006
LAST_UPDATED: Fri Jan 27 20:12:19 UTC 2006 (revision 110300)
Native configuration is i686-pc-linux-gnu
=== gcc tests ===
Running target unix
XPASS: gcc.dg/vect/vect-22.c scan-tree-dump-times vectorized 3 loops 1
=== gcc Summary ===
# of expected passes 35535
# of unexpected successes 1
# of expected failures 94
# of untested testcases 28
# of unsupported tests 326
/export/build/gnu/gcc-4.0-blended/build-i686-linux/gcc/xgcc version 4.0.3 20060127 (prerelease)
=== gfortran tests ===
Running target unix
=== gfortran Summary ===
# of expected passes 8858
# of expected failures 1
/export/build/gnu/gcc-4.0-blended/build-i686-linux/gcc/testsuite/gfortran/../../gfortran version 4.0.3 20060127 (prerelease)
=== g++ tests ===
Running target unix
=== g++ Summary ===
# of expected passes 11441
# of expected failures 69
# of unsupported tests 56
/export/build/gnu/gcc-4.0-blended/build-i686-linux/gcc/testsuite/g++/../../g++ version 4.0.3 20060127 (prerelease)
=== objc tests ===
Running target unix
=== objc Summary ===
# of expected passes 1548
# of unsupported tests 10
/export/build/gnu/gcc-4.0-blended/build-i686-linux/gcc/xgcc version 4.0.3 20060127 (prerelease)
=== libffi tests ===
Running target unix
=== libffi Summary ===
# of expected passes 219
# of unsupported tests 2
=== libjava tests ===
Running target unix
=== libjava Summary ===
# of expected passes 3899
# of expected failures 10
# of untested testcases 8
=== libmudflap tests ===
Running target unix
=== libmudflap Summary ===
# of expected passes 1288
=== libstdc++ tests ===
Running target unix
XPASS: 22_locale/locale/cons/12658_thread-1.cc execution test
XPASS: 26_numerics/cmath/c99_classification_macros_c.cc (test for excess errors)
=== libstdc++ Summary ===
# of expected passes 3713
# of unexpected successes 2
# of expected failures 12
Compiler version: 4.0.3 20060127 (prerelease)
Platform: i686-pc-linux-gnu
configure flags: --enable-clocale=gnu --with-system-zlib --with-demangler-in-ld --enable-shared --enable-threads=posix --enable-haifa --disable-checking --prefix=/usr/gcc-4.0-blended --with-local-prefix=/usr/local --enable-languages=c,c++,f95,java,objc
More information about the Gcc-testresults
mailing list