Results for 4.1.0 20051113 (experimental) testsuite on i686-pc-linux-gnu
H.J. Lu
hjl@gnu-3.sc.intel.com
Sun Nov 13 21:27:00 GMT 2005
LAST_UPDATED: Sun Nov 13 15:47:05 UTC 2005 (revision 106864)
Native configuration is i686-pc-linux-gnu
=== gcc tests ===
Running target unix
=== gcc Summary ===
# of expected passes 37795
# of expected failures 96
# of untested testcases 28
# of unsupported tests 252
/export/build/gnu/gcc/build-i686-linux/gcc/xgcc version 4.1.0 20051113 (experimental)
=== gfortran tests ===
Running target unix
=== gfortran Summary ===
# of expected passes 10579
# of expected failures 15
# of unsupported tests 16
/export/build/gnu/gcc/build-i686-linux/gcc/testsuite/../gfortran version 4.1.0 20051113 (experimental)
=== g++ tests ===
Running target unix
=== g++ Summary ===
# of expected passes 11644
# of expected failures 67
# of unsupported tests 63
/export/build/gnu/gcc/build-i686-linux/gcc/testsuite/../g++ version 4.1.0 20051113 (experimental)
=== objc tests ===
Running target unix
=== objc Summary ===
# of expected passes 1672
# of unsupported tests 22
/export/build/gnu/gcc/build-i686-linux/gcc/xgcc version 4.1.0 20051113 (experimental)
=== libffi tests ===
Running target unix
=== libffi Summary ===
# of expected passes 228
# of unsupported tests 2
=== libjava tests ===
Running target unix
=== libjava Summary ===
# of expected passes 3986
# of expected failures 10
# of untested testcases 8
=== libmudflap tests ===
Running target unix
=== libmudflap Summary ===
# of expected passes 1789
=== libstdc++ tests ===
Running target unix
XPASS: 26_numerics/cmath/c99_classification_macros_c.cc (test for excess errors)
=== libstdc++ Summary ===
# of expected passes 1616
# of unexpected successes 1
# of expected failures 6
# of unsupported tests 4
Compiler version: 4.1.0 20051113 (experimental)
Platform: i686-pc-linux-gnu
configure flags: --enable-clocale=gnu --with-system-zlib --disable-libunwind-exceptions --with-demangler-in-ld --enable-shared --enable-threads=posix --enable-haifa --disable-checking --prefix=/usr/gcc-4.1 --with-local-prefix=/usr/local --enable-languages=c,c++,fortran,java,objc
More information about the Gcc-testresults
mailing list