Results for 4.1.0 20051113 (experimental) testsuite on i686-pc-linux-gnu

Laurent GUERBY laurent@guerby.net
Sun Nov 13 11:56:00 GMT 2005


LAST_UPDATED: Sun Nov 13 09:12:57 UTC 2005 (revision 106858M)

		=== acats tests ===
FAIL:	c32001e
FAIL:	c34007p
FAIL:	c34007r
FAIL:	c45282b
FAIL:	c64105b
FAIL:	c95086b
FAIL:	ca11c01
FAIL:	cdd2a02

		=== acats Summary ===
# of expected passes		2311
# of unexpected failures	8
Native configuration is i686-pc-linux-gnu

		=== gcc tests ===


Running target unix

		=== gcc Summary ===

# of expected passes		37789
# of expected failures		96
# of untested testcases		28
# of unsupported tests		251
/home/guerby/work/gcc/build/build-20051113T103514/gcc/xgcc  version 4.1.0 20051113 (experimental)


Compiler version: 4.1.0 20051113 (experimental) 
Platform: i686-pc-linux-gnu
configure flags: --prefix=/home/guerby/work/gcc/install/install-20051113T103514 --enable-__cxa_atexit --disable-nls --enable-threads=posix --disable-multilib --enable-checking --enable-languages=c,ada




More information about the Gcc-testresults mailing list