Results for gcc gcc testsuite on i686-pc-linux-gnu
Al Stone
ahs3@fc.hp.com
Wed Nov 9 14:52:00 GMT 2005
LAST_UPDATED:
Native configuration is i686-pc-linux-gnu
=== gcc tests ===
Running target unix
=== libstdc++-v3 check-abi Summary ===
# of added symbols: 100
# of missing symbols: 46
# of incompatible symbols: 46
using: /home/builder/nightly-build/build/src/tco/gcc/libstdc++-v3/config/abi/i486-linux-gnu/baseline_symbols.txt
Compiler version: gcc gcc
Platform: i686-pc-linux-gnu
configure flags: --prefix=/opt/toolchain/tco-20051109 --with-system-zlib --enable-nls --without-included-gettext --enable-languages=c,c++
Counting all warnings,
there are 0 warnings in stage3 of this bootstrap.
Number of warnings per file:
Number of warning types:
More information about the Gcc-testresults
mailing list