Results for 3.4.4 20050501 (prerelease) testsuite on sparc-sun-solaris2.7
Eric Botcazou
eric@linux.site
Mon May 2 08:04:00 GMT 2005
LAST_UPDATED: Sun May 1 16:20:29 GMT 2005
Native configuration is sparc-sun-solaris2.7
=== g++ tests ===
Running target unix
WARNING: g++.dg/eh/simd-1.C compilation failed to produce executable
WARNING: g++.dg/eh/simd-2.C compilation failed to produce executable
XPASS: g++.dg/rtti/tinfo1.C scan-assembler _ZTIP9CTemplateIhE:
XPASS: g++.dg/rtti/tinfo1.C scan-assembler-not .globl[ \\t]+_ZTIP9CTemplateIhE
WARNING: g++.old-deja/g++.mike/p10769a.C compilation failed to produce executable
WARNING: g++.old-deja/g++.other/enum5.C compilation failed to produce executable
WARNING: g++.old-deja/g++.pt/friend44.C compilation failed to produce executable
=== g++ Summary ===
# of expected passes 9764
# of unexpected successes 2
# of expected failures 73
# of unsupported tests 77
/opt/build/eric/gcc-3_4-branch/gcc/testsuite/../g++ version 3.4.4 20050501 (prerelease)
=== g77 tests ===
Running target unix
=== g77 Summary ===
# of expected passes 1812
# of unsupported tests 6
/opt/build/eric/gcc-3_4-branch/gcc/testsuite/../g77 version 3.4.4 20050501 (prerelease)
=== gcc tests ===
Running target unix
UNRESOLVED: gcc.c-torture/execute/simd-4.c execution, -O0
UNRESOLVED: gcc.dg/compat/vector-1 c_compat_x_tst.o-c_compat_y_tst.o link
UNRESOLVED: gcc.dg/compat/vector-1 c_compat_x_tst.o-c_compat_y_tst.o execute
UNRESOLVED: gcc.dg/compat/vector-2 c_compat_x_tst.o-c_compat_y_tst.o link
UNRESOLVED: gcc.dg/compat/vector-2 c_compat_x_tst.o-c_compat_y_tst.o execute
XPASS: gcc.dg/uninit-4.c uninitialized variable warning (test for bogus messages, line 26)
UNRESOLVED: gcc.dg/visibility-1.c
UNRESOLVED: gcc.dg/visibility-2.c
UNRESOLVED: gcc.dg/visibility-3.c
UNRESOLVED: gcc.dg/visibility-4.c
UNRESOLVED: gcc.dg/visibility-5.c
UNRESOLVED: gcc.dg/visibility-6.c
UNRESOLVED: gcc.dg/visibility-7.c
UNRESOLVED: gcc.dg/visibility-8.c
=== gcc Summary ===
# of expected passes 24657
# of unexpected successes 1
# of expected failures 78
# of unresolved testcases 13
# of untested testcases 7
# of unsupported tests 355
/opt/build/eric/gcc-3_4-branch/gcc/xgcc version 3.4.4 20050501 (prerelease)
=== objc tests ===
Running target unix
=== objc Summary ===
# of expected passes 1352
# of unsupported tests 8
/opt/build/eric/gcc-3_4-branch/gcc/xgcc version 3.4.4 20050501 (prerelease)
=== libstdc++ tests ===
Running target unix
XPASS: 22_locale/locale/cons/12658_thread.cc execution test
=== libstdc++ Summary ===
# of expected passes 2735
# of unexpected successes 1
# of expected failures 6
Compiler version: 3.4.4 20050501 (prerelease)
Platform: sparc-sun-solaris2.7
configure flags: --prefix=/opt/build/eric/local/gcc-3_4-branch --enable-languages=c,c++,objc,f77,java --with-local-prefix=/opt/build/eric/local --disable-libgcj
More information about the Gcc-testresults
mailing list