Results for 4.1.0 20050315 (experimental) testsuite on i686-pc-linux-gnu
CodeSourcery Automatic Testing System
gcc@codesourcery.com
Tue Mar 15 15:30:00 GMT 2005
LAST_UPDATED: Tue Mar 15 09:49:07 UTC 2005
Native configuration is i686-pc-linux-gnu
=== g++ tests ===
Running target unix
=== g++ Summary ===
# of expected passes 10871
# of expected failures 67
# of unsupported tests 56
/scratch/gcc/nightly-2005-03-15-mainline/i686-pc-linux-gnu/build_gcc/build/gcc/testsuite/../g++ version 4.1.0 20050315 (experimental)
=== gcc tests ===
Running target unix
XPASS: gcc.dg/vect/vect-22.c scan-tree-dump-times vectorized 3 loops 1
=== gcc Summary ===
# of expected passes 33701
# of unexpected successes 1
# of expected failures 100
# of untested testcases 28
# of unsupported tests 321
/scratch/gcc/nightly-2005-03-15-mainline/i686-pc-linux-gnu/build_gcc/build/gcc/xgcc version 4.1.0 20050315 (experimental)
=== libstdc++ tests ===
Running target unix
XPASS: 26_numerics/cmath/c99_classification_macros_c.cc (test for excess errors)
=== libstdc++ Summary ===
# of expected passes 3618
# of unexpected successes 1
# of expected failures 8
Compiler version: 4.1.0 20050315 (experimental)
Platform: i686-pc-linux-gnu
configure flags: --prefix=/home/gcc/scratch/nightly-2005-03-15-mainline/i686-pc-linux-gnu/build_gcc/install --enable-threads --disable-libmudflap --enable-languages=c,c++
More information about the Gcc-testresults
mailing list