Results for gcc 4.0.0 20050118 (experimental) testsuite on i686-pc-linux-gnu
Mayur Sonukale
mayur@linsyssoft.com
Tue Jan 18 14:48:00 GMT 2005
Results for gcc 4.0.0 20050118 (experimental) testsuite :
host:linux 2.4.20-6 i686 AMD Athlon (rh9)
binutils-2.15
bison-1.875
dejagnu-1.4.4
expect-5.42.1
tcl-8.4
Native configuration is i686-pc-linux-gnu
=== gcc tests ===
Running target unix
ERROR: gcc.dg/charset/asm1.c: can't read "libiconv": no such variable
for " dg-require-iconv 2 "IBM-1047" "
ERROR: gcc.dg/charset/asm2.c: can't read "libiconv": no such variable
for " dg-require-iconv 5 "IBM-1047" "
ERROR: gcc.dg/charset/asm3.c: can't read "libiconv": no such variable
for " dg-require-iconv 4 "IBM-1047" "
ERROR: gcc.dg/charset/asm4.c: can't read "libiconv": no such variable
for " dg-require-iconv 3 "IBM-1047" "
ERROR: gcc.dg/charset/asm5.c: can't read "libiconv": no such variable
for " dg-require-iconv 3 "IBM-1047" "
ERROR: gcc.dg/charset/asm6.c: can't read "libiconv": no such variable
for " dg-require-iconv 3 "IBM-1047" "
ERROR: gcc.dg/charset/attribute1.c: can't read "libiconv": no such
variable for " dg-require-iconv 3 "IBM-1047" "
ERROR: gcc.dg/charset/attribute2.c: can't read "libiconv": no such
variable for " dg-require-iconv 5 "IBM-1047" "
ERROR: gcc.dg/charset/extern.c: can't read "libiconv": no such variable
for " dg-require-iconv 2 "IBM-1047" "
ERROR: gcc.dg/charset/function.c: can't read "libiconv": no such
variable for " dg-require-iconv 2 "IBM-1047" "
ERROR: gcc.dg/charset/string.c: can't read "libiconv": no such variable
for " dg-require-iconv 3 "IBM-1047" "
ERROR: tcl error sourcing ./gcc.dg/compat/struct-layout-1.exp.
ERROR: can't read "HOSTCC": no such variable
while executing
"remote_exec host "$HOSTCC $HOSTCFLAGS $generator_cmd""
invoked from within
"set status [remote_exec host "$HOSTCC $HOSTCFLAGS $generator_cmd"]"
(file "./gcc.dg/compat/struct-layout-1.exp" line 110)
invoked from within
"source ./gcc.dg/compat/struct-layout-1.exp"
("uplevel" body line 1)
invoked from within
"uplevel #0 source ./gcc.dg/compat/struct-layout-1.exp"
invoked from within
"catch "uplevel #0 source $test_file_name""
=== gcc Summary ===
# of expected passes 32522
# of unexpected successes 4
# of expected failures 88
# of unresolved testcases 11
# of untested testcases 28
# of unsupported tests 305
/home/mayur/cvs_ext/buildgcc/gcc/xgcc version 4.0.0 20050118
(experimental)
Compiler version: 4.0.0 20050118 (experimental)
Platform: i686-pc-linux-gnu
More information about the Gcc-testresults
mailing list