Results for 4.0.0 20050227 (prerelease) testsuite on x86_64-unknown-linux-gnu

Laurent GUERBY laurent@guerby.net
Mon Feb 28 14:09:00 GMT 2005


ACATS with -O2 -fno-tree-sra

LAST_UPDATED: Sun Feb 27 22:27:53 UTC 2005

		=== acats tests ===
FAIL:	c37402a
FAIL:	c391002
FAIL:	c432002
FAIL:	c43214c
FAIL:	c99004a
FAIL:	cxa4006
FAIL:	cxa4017

		=== acats Summary ===
# of expected passes		2313
# of unexpected failures	7
Native configuration is x86_64-unknown-linux-gnu

		=== gcc tests ===


Running target unix
XPASS: gcc.dg/vect/vect-22.c scan-tree-dump-times vectorized 3 loops 1

		=== gcc Summary ===

# of expected passes		33006
# of unexpected successes	1
# of expected failures		105
# of untested testcases		28
# of unsupported tests		420
/home/guerby/work/gcc/build/build-20050227T232947/gcc/xgcc  version 4.0.0 20050227 (prerelease)


Compiler version: 4.0.0 20050227 (prerelease) 
Platform: x86_64-unknown-linux-gnu
configure flags: --prefix=/home/guerby/work/gcc/install/install-20050227T232947 --enable-__cxa_atexit --disable-nls --enable-threads=posix --enable-checking --enable-languages=c,ada




More information about the Gcc-testresults mailing list