Results for 4.1.0 20050227 (experimental) testsuite on i686-pc-linux-gnu

Laurent GUERBY laurent@guerby.net
Mon Feb 28 13:46:00 GMT 2005


ACATS with -O2 -fno-tree-sra

LAST_UPDATED: Sun Feb 27 22:22:15 UTC 2005

		=== acats tests ===
FAIL:	c391002
FAIL:	c432002
FAIL:	c43214c
FAIL:	c99004a
FAIL:	cxa4006
FAIL:	cxa4017

		=== acats Summary ===
# of expected passes		2314
# of unexpected failures	6
Native configuration is i686-pc-linux-gnu

		=== gcc tests ===


Running target unix
XPASS: gcc.dg/vect/vect-22.c scan-tree-dump-times vectorized 3 loops 1

		=== gcc Summary ===

# of expected passes		33325
# of unexpected successes	1
# of expected failures		101
# of untested testcases		28
# of unsupported tests		309
/home/guerby/work/gcc/build/build-20050227T233016/gcc/xgcc  version 4.1.0 20050227 (experimental)


Compiler version: 4.1.0 20050227 (experimental) 
Platform: i686-pc-linux-gnu
configure flags: --prefix=/home/guerby/work/gcc/install/install-20050227T233016 --enable-__cxa_atexit --disable-nls --enable-threads=posix --enable-checking --enable-languages=c,ada




More information about the Gcc-testresults mailing list