Results for 4.0.0 20050224 (experimental) testsuite on i686-pc-linux-gnu

Joe Buck Joe.Buck@synopsys.com
Thu Feb 24 15:07:00 GMT 2005


This is a Red Hat Enterprise (GNU/)Linux WS release 3 system,
running on a dual 2.2 GHz Intel Xeon system.

kernel: 2.4.21-4.EL (from Red Hat)
glibc: 2.3.2-95.3 (from Red Hat)
binutils: 2.14.90.0.4-26 (from Red Hat)

Only C, C++, ObjC are tested (no Java).
LAST_UPDATED: Thu Feb 24 09:22:14 UTC 2005

Native configuration is i686-pc-linux-gnu

		=== g++ tests ===


Running target unix

		=== g++ Summary ===

# of expected passes		10756
# of expected failures		71
# of unsupported tests		56
/var/tmp/gccbuild/trunk/gcc/testsuite/../g++  version 4.0.0 20050224 (experimental)

		=== gcc tests ===


Running target unix
XPASS: gcc.dg/vect/vect-22.c scan-tree-dump-times vectorized 3 loops 1

		=== gcc Summary ===

# of expected passes		33287
# of unexpected successes	1
# of expected failures		101
# of untested testcases		28
# of unsupported tests		307
/var/tmp/gccbuild/trunk/gcc/xgcc  version 4.0.0 20050224 (experimental)

		=== objc tests ===


Running target unix

		=== objc Summary ===

# of expected passes		1534
# of unsupported tests		10
/var/tmp/gccbuild/trunk/gcc/xgcc  version 4.0.0 20050224 (experimental)

		=== libmudflap tests ===


Running target unix

		=== libmudflap Summary ===

# of expected passes		1288

		=== libstdc++-v3 check-abi Summary ===

# of added symbols:		 56
# of missing symbols:		 0
# of incompatible symbols:	 2

using: /u/jbuck/gnu/src/cvs/trunk/gcc/libstdc++-v3/config/abi/i486-linux-gnu/baseline_symbols.txt

		=== libstdc++ tests ===


Running target unix
XPASS: 22_locale/locale/cons/12658_thread-1.cc execution test
XPASS: 26_numerics/cmath/c99_classification_macros_c.cc (test for excess errors)

		=== libstdc++ Summary ===

# of expected passes		3602
# of unexpected successes	2
# of expected failures		8

Compiler version: 4.0.0 20050224 (experimental) 
Platform: i686-pc-linux-gnu
configure flags: --prefix=/usr/localdisk/gcc-cvs/trunk --enable-languages=c,c++,objc



More information about the Gcc-testresults mailing list