Results for 4.0.0 20050223 (experimental) testsuite on i686-pc-linux-gnu

Laurent GUERBY laurent@guerby.net
Thu Feb 24 07:23:00 GMT 2005


LAST_UPDATED: Wed Feb 23 19:04:02 UTC 2005

		=== acats tests ===
FAIL:	c391002
FAIL:	c432002
FAIL:	c43214c
FAIL:	cxa4006
FAIL:	cxa4017

		=== acats Summary ===
# of expected passes		2315
# of unexpected failures	5
Native configuration is i686-pc-linux-gnu

		=== gcc tests ===


Running target unix
XPASS: gcc.dg/vect/vect-22.c scan-tree-dump-times vectorized 3 loops 1

		=== gcc Summary ===

# of expected passes		33271
# of unexpected successes	1
# of expected failures		101
# of untested testcases		28
# of unsupported tests		307
/home/guerby/work/gcc/build/build-20050223T201401/gcc/xgcc  version 4.0.0 20050223 (experimental)


Compiler version: 4.0.0 20050223 (experimental) 
Platform: i686-pc-linux-gnu
configure flags: --prefix=/home/guerby/work/gcc/install/install-20050223T201401 --enable-__cxa_atexit --disable-nls --enable-threads=posix --enable-checking --enable-languages=c,ada




More information about the Gcc-testresults mailing list