Results for 4.0.0 20050218 (experimental) testsuite on i686-pc-linux-gnu

Laurent GUERBY laurent@guerby.net
Sat Feb 19 06:53:00 GMT 2005


LAST_UPDATED: Fri Feb 18 20:22:38 UTC 2005

		=== acats tests ===
FAIL:	c32001e
FAIL:	c391002
FAIL:	c432002
FAIL:	c43214c
FAIL:	c52011a
FAIL:	c64105b
FAIL:	c85006e
FAIL:	c95086b
FAIL:	cc1221d
FAIL:	cd2b11a
FAIL:	cd2b11b
FAIL:	cdd2a02
FAIL:	cxa3004
FAIL:	cxa4006
FAIL:	cxa4017
FAIL:	cxb3006

		=== acats Summary ===
# of expected passes		2306
# of unexpected failures	16
Native configuration is i686-pc-linux-gnu

		=== gcc tests ===


Running target unix
XPASS: gcc.dg/vect/vect-22.c scan-tree-dump-times vectorized 3 loops 1

		=== gcc Summary ===

# of expected passes		33205
# of unexpected successes	1
# of expected failures		100
# of untested testcases		28
# of unsupported tests		307
/home/guerby/work/gcc/build/build-20050218T213356/gcc/xgcc  version 4.0.0 20050218 (experimental)


Compiler version: 4.0.0 20050218 (experimental) 
Platform: i686-pc-linux-gnu
configure flags: --prefix=/home/guerby/work/gcc/install/install-20050218T213356 --enable-__cxa_atexit --disable-nls --enable-threads=posix --enable-checking --enable-languages=c,ada




More information about the Gcc-testresults mailing list