Results for 4.0.0 20050217 (experimental) testsuite on x86_64-unknown-linux-gnu

Laurent GUERBY laurent@guerby.net
Fri Feb 18 20:56:00 GMT 2005


LAST_UPDATED: Thu Feb 17 22:37:31 UTC 2005

		=== acats tests ===
FAIL:	c37402a
FAIL:	c391002
FAIL:	c432002
FAIL:	c43214c
FAIL:	c85006e
FAIL:	cc1221d
FAIL:	cdd2a02
FAIL:	cxa3004
FAIL:	cxa4006
FAIL:	cxa4017
FAIL:	cxa5a01
FAIL:	cxa5a02
FAIL:	cxa5a03
FAIL:	cxa5a04
FAIL:	cxa5a08
FAIL:	cxb3006
FAIL:	cxg2004
FAIL:	cxg2013

		=== acats Summary ===
# of expected passes		2304
# of unexpected failures	18
Native configuration is x86_64-unknown-linux-gnu

		=== gcc tests ===


Running target unix
XPASS: gcc.dg/vect/vect-22.c scan-tree-dump-times vectorized 3 loops 1

		=== gcc Summary ===

# of expected passes		32873
# of unexpected successes	1
# of expected failures		104
# of untested testcases		28
# of unsupported tests		418
/home/guerby/work/gcc/build/build-20050217T234636/gcc/xgcc  version 4.0.0 20050217 (experimental)


Compiler version: 4.0.0 20050217 (experimental) 
Platform: x86_64-unknown-linux-gnu
configure flags: --prefix=/home/guerby/work/gcc/install/install-20050217T234636 --enable-__cxa_atexit --disable-nls --enable-threads=posix --enable-checking --enable-languages=c,ada




More information about the Gcc-testresults mailing list