Results for 4.0.0 20050203 (experimental) testsuite on x86_64-unknown-linux-gnu

Laurent GUERBY laurent@guerby.net
Sun Feb 6 12:00:00 GMT 2005


LAST_UPDATED: Sun Feb  6 09:04:44 UTC 2005

		=== acats tests ===
FAIL:	c330001
FAIL:	c37402a
FAIL:	c43214c
FAIL:	cc1221d
FAIL:	cd10002
FAIL:	cdd2a02
FAIL:	cxa5012

		=== acats Summary ===
# of expected passes		2315
# of unexpected failures	7
Native configuration is x86_64-unknown-linux-gnu

		=== gcc tests ===


Running target unix
XPASS: gcc.dg/vect/vect-22.c scan-tree-dump-times vectorized 3 loops 1

		=== gcc Summary ===

# of expected passes		32633
# of unexpected successes	1
# of expected failures		93
# of untested testcases		28
# of unsupported tests		418
/home/guerby/work/gcc/build/build-20050206T100814/gcc/xgcc  version 4.0.0 20050203 (experimental)


Compiler version: 4.0.0 20050203 (experimental) 
Platform: x86_64-unknown-linux-gnu
configure flags: --prefix=/home/guerby/work/gcc/install/install-20050206T100814 --enable-__cxa_atexit --disable-nls --enable-threads=posix --enable-checking --enable-languages=c,ada




More information about the Gcc-testresults mailing list