Results for 4.0.2 20050811 (prerelease) testsuite on i686-pc-linux-gnu
Laurent GUERBY
laurent@guerby.net
Fri Aug 12 06:56:00 GMT 2005
LAST_UPDATED: Thu Aug 11 21:30:43 UTC 2005
=== acats tests ===
=== acats Summary ===
# of expected passes 2320
# of unexpected failures 0
Native configuration is i686-pc-linux-gnu
=== gcc tests ===
Running target unix
XPASS: gcc.dg/vect/vect-22.c scan-tree-dump-times vectorized 3 loops 1
=== gcc Summary ===
# of expected passes 35035
# of unexpected successes 1
# of expected failures 94
# of untested testcases 28
# of unsupported tests 328
/home/guerby/work/gcc/build/build-20050811T234652/gcc/xgcc version 4.0.2 20050811 (prerelease)
Compiler version: 4.0.2 20050811 (prerelease)
Platform: i686-pc-linux-gnu
configure flags: --prefix=/home/guerby/work/gcc/install/install-20050811T234652 --enable-__cxa_atexit --disable-nls --enable-threads=posix --disable-multilib --enable-checking --enable-languages=c,ada
More information about the Gcc-testresults
mailing list