Results for 4.0.0 (release) testsuite on crx-unknown-none
Paul Woegerer
Paul.Woegerer@nsc.com
Mon Apr 25 09:12:00 GMT 2005
Hi,
these are test results for the GCC 4.0.0. Here again i used a functional
simulator as target-board.
I did not change the original testsuite - this explains the amount of
errors (eg. nested funcs are not supported, no label values, ...)
The compiler was configured with:
../gcc/configure --target=crx-elf --enable-languages=c,c++ --disable-nls
--prefix=/home/paul/scratch/CR_GNU/linux-install
=== gcc Summary ===
# of expected passes 32023
# of unexpected failures 496
# of unexpected successes 2
# of expected failures 73
# of unresolved testcases 268
# of untested testcases 28
# of unsupported tests 323
/home/paul/scratch/i-gcc-4.0.0/bin/crx-elf-gcc version 4.0.0
-------------- next part --------------
A non-text attachment was scrubbed...
Name: gcc.sum.bz2
Type: application/x-bzip2
Size: 5684 bytes
Desc: not available
URL: <http://gcc.gnu.org/pipermail/gcc-testresults/attachments/20050425/e830c162/attachment.bz2>
More information about the Gcc-testresults
mailing list