Results for 4.0.0 20050414 (prerelease) testsuite on i686-pc-linux-gnu
Al Stone
ahs3@fc.hp.com
Thu Apr 14 14:36:00 GMT 2005
LAST_UPDATED: Thu Mar 10 07:51:30 UTC 2005
Native configuration is i686-pc-linux-gnu
=== g++ tests ===
Running target unix
=== g++ Summary ===
# of expected passes 10899
# of expected failures 70
# of unsupported tests 56
/opt/toolchain/i686/obj/upstream/gcc-4.0/gcc/testsuite/../g++ version 4.0.0 20050414 (prerelease)
=== gcc tests ===
Running target unix
XPASS: gcc.dg/vect/vect-22.c scan-tree-dump-times vectorized 3 loops 1
=== gcc Summary ===
# of expected passes 33834
# of unexpected successes 1
# of expected failures 101
# of untested testcases 28
# of unsupported tests 323
/opt/toolchain/i686/obj/upstream/gcc-4.0/gcc/xgcc version 4.0.0 20050414 (prerelease)
=== libstdc++ tests ===
Running target unix
XPASS: 22_locale/locale/cons/12658_thread-1.cc execution test
XPASS: 26_numerics/cmath/c99_classification_macros_c.cc (test for excess errors)
=== libstdc++ Summary ===
# of expected passes 3610
# of unexpected successes 2
# of expected failures 12
Compiler version: 4.0.0 20050414 (prerelease)
Platform: i686-pc-linux-gnu
configure flags: --prefix=/opt/toolchain/i686/tot --program-suffix=-4.0 --with-system-zlib --enable-nls --without-included-gettext --enable-languages=c,c++
Counting all warnings,
there are 0 warnings in stage3 of this bootstrap.
Number of warnings per file:
Number of warning types:
More information about the Gcc-testresults
mailing list