Results for 3.4.1 gcc testsuite on i586-suse-linux-gnu

Robert Schiele rschiele@uni-mannheim.de
Sat Jul 3 19:33:00 GMT 2004


# Some comments about the system:

# SuSE Linux 9.1 (i586)
# VERSION = 9.1

# bash-2.05b-305.1
# binutils-2.15.90.0.1.1-31
# dejagnu-1.4.3-330
# expect-5.40-27
# gcc-3.3.3-41
# glibc-2.3.3-97
# kernel-default-2.6.5-7.95
# make-3.80-184
# tcl-8.4.6-26
# texinfo-4.6-61

# Linux 2.6.5-7.75-default #1 Mon Jun 14 10:44:37 UTC 2004 i686 athlon i386 GNU/Linux
#   9:33pm  up 7 days 22:11,  12 users,  load average: 0.10, 1.12, 1.81

# Reading specs from /usr/lib/gcc-lib/i586-suse-linux/3.3.3/specs
# Configured with: ../configure --enable-threads=posix --prefix=/usr --with-local-prefix=/usr/local --infodir=/usr/share/info --mandir=/usr/share/man --enable-languages=c,c++,f77,objc,java,ada --disable-checking --libdir=/usr/lib --enable-libgcj --with-gxx-include-dir=/usr/include/g++ --with-slibdir=/lib --with-system-zlib --enable-shared --enable-__cxa_atexit i586-suse-linux
# Thread model: posix
# gcc version 3.3.3 (SuSE Linux)

# GNU C Library stable release version 2.3.3 (20040405), by Roland McGrath et al.
# Configured for i686-suse-linux.
# Compiled by GNU CC version 3.3.3 (SuSE Linux).
# Compiled on a Linux 2.6.4 system on 2004-04-05.
# Available extensions:
# 	GNU libio by Per Bothner
# 	crypt add-on version 2.1 by Michael Glad and others
# 	linuxthreads-0.10 by Xavier Leroy
# 	GNU Libidn by Simon Josefsson
# 	NoVersion patch for broken glibc 2.0 binaries
# 	BIND-8.2.3-T5B
# 	libthread_db work sponsored by Alpha Processor Inc
# 	NIS(YP)/NIS+ NSS modules 0.19 by Thorsten Kukuk
# Thread-local storage support included.

LAST_UPDATED: Obtained from CVS: -rgcc_3_4_1_release 

Native configuration is i586-suse-linux-gnu

		=== gcc tests ===


Running target unix

		=== gcc Summary ===

# of expected passes		382
/local/build/gcc/xgcc version 3.4.1


Compiler version: 3.4.1 gcc 
Platform: i586-suse-linux-gnu
configure flags: --enable-threads=posix --prefix=/local/inst/gcc341 --enable-languages=c,c++,f77,objc --disable-checking --disable-libgcj --with-gxx-include-dir=/local/inst/gcc341/include/g++ --with-system-zlib --enable-shared --enable-__cxa_atexit i586-suse-linux



More information about the Gcc-testresults mailing list