Results for 3.5.0-libobjc 20040125 (merged 20040125) objc testsuite on i686-pc-linux-gnu

Andrew Pinski pinskia@physics.uc.edu
Sun Jan 25 22:20:00 GMT 2004


LAST_UPDATED: 
Native configuration is i686-pc-linux-gnu

		=== objc tests ===


Running target unix

		=== objc Summary ===

# of expected passes		1341
# of unsupported tests		8
/home/gates/pinskia/src/gnu/gcc-libobjc/src/objdir.linux/gcc/xgcc version 3.5.0-libobjc 20040125 (merged 20040125)


Compiler version: 3.5.0-libobjc 20040125 (merged 20040125) objc 
Platform: i686-pc-linux-gnu
configure flags: --disable-nls --verbose --enable-cpp --enable-languages=objc --prefix=/home/gates/pinskia/linux-libobjc --enable-shared,;t t



More information about the Gcc-testresults mailing list