Results for 3.4.4 20041231 (prerelease) g77 testsuite on i686-pc-linux-gnu
bud davis
bdavis@gfortran.org
Fri Dec 31 05:23:00 GMT 2004
LAST_UPDATED:
Native configuration is i686-pc-linux-gnu
=== g77 tests ===
Running target unix
=== g77 Summary ===
# of expected passes 1824
/usr/work/g77/bin/gcc/testsuite/../g77 version 3.4.4 20041231 (prerelease)
Compiler version: 3.4.4 20041231 (prerelease) g77
Platform: i686-pc-linux-gnu
configure flags: --enable-languages=c,f77,;t t
More information about the Gcc-testresults
mailing list