Results for gcc testsuite on i686-pc-linux-gnu
lfs@localhost.localdomain
lfs@localhost.localdomain
Sun Apr 27 10:22:00 GMT 2003
LAST_UPDATED:
Native configuration is i686-pc-linux-gnu
=== binutils tests ===
Running target unix
=== binutils Summary ===
# of expected passes 31
# of expected failures 1
=== gas tests ===
Running target unix
=== gas Summary ===
# of expected passes 55
Compiler version: gcc
Platform: i686-pc-linux-gnu
configure flags: --host=i686-pc-linux-gnu --prefix=/stage1 --with-lib-path=/stage1/lib --enable-shared
More information about the Gcc-testresults
mailing list