Results for gcc testsuite on i386-unknown-freebsd5.0

Loren James Rittle ljrittle@FreeBSD.org
Fri Nov 8 13:55:00 GMT 2002


Native configuration is i386-unknown-freebsd5.0

		=== g77 tests ===


Running target unix

		=== g77 Summary ===

		=== objc tests ===


Running target unix

		=== objc Summary ===


Compiler version: gcc 
Platform: i386-unknown-freebsd5.0

BOOT_CFLAGS=-g -O2
Key: gmake is GNU make
     make is BSD make as shipped on i386-unknown-freebsd5.0
     srcdir means in-source configuration was done within the gcc source tree
     objdir means out-source configuration was done within a fresh directory
ref4 (3.1) and ref5 (mainline) attempt to build gcc twice daily;
once for srcdir configuration and once for objdir configuration;
odd number days use GNU make; even days use BSD make; missing
reports infer breakage; partial reports are made when bootstap
completes in gcc but fails in a support library.
beast (3.1) builds gcc once daily using gmake with objdir conf.
See http://people.freebsd.org/~ljrittle/daily-gcc-bootstrap-reports
for all related transcript logs and log.sent files (not staged
until after all daily bootstraps for a machine complete).



More information about the Gcc-testresults mailing list