Results for gcc testsuite on i686-pc-linux-gnu
R. Bernstein
rocky@muffin.peccary.sty
Thu Jan 24 02:38:00 GMT 2002
LAST_UPDATED:
Native configuration is i686-pc-linux-gnu
=== libjava tests ===
Running target unix
XPASS: N19990310_4 output from source compiled test
XPASS: N19990310_4 -O output from source compiled test
XPASS: stringconst output from bytecode->native test
XPASS: stringconst -O output from bytecode->native test
XPASS: stub compilation from source
XPASS: stub byte compilation
XPASS: stub compilation from bytecode
XPASS: stub -O compilation from source
XPASS: stub byte compilation
XPASS: stub -O compilation from bytecode
=== libjava Summary ===
# of expected passes 1612
# of unexpected successes 10
# of expected failures 14
# of untested testcases 80
=== libstdc++-v3 tests ===
Running target unix
=== libstdc++-v3 Summary ===
# of expected passes 247
# of expected failures 8
Compiler version: gcc
Platform: i686-pc-linux-gnu
configure flags: --host=i686-pc-linux-gnu --program-suffix=3
More information about the Gcc-testresults
mailing list