Results for 3.0.3 testsuite on i686-pc-linux-gnu

root@CJ497665-A.alex1.va.home.com root@CJ497665-A.alex1.va.home.com
Tue Jan 1 19:31:00 GMT 2002


LAST_UPDATED: 
Native configuration is i686-pc-linux-gnu

		=== g++ tests ===


Running target unix

		=== g++ Summary ===

/usr/local/obj/gcc-3.0.3/gcc/testsuite/../g++ version 3.0.3

		=== g77 tests ===


Running target unix

		=== g77 Summary ===

		=== gcc tests ===


Running target unix

		=== gcc Summary ===

/usr/local/obj/gcc-3.0.3/gcc/xgcc version 3.0.3

		=== objc tests ===


Running target unix

		=== objc Summary ===

/usr/local/obj/gcc-3.0.3/gcc/xgcc version 3.0.3

		=== libjava tests ===


Running target unix

		=== libjava Summary ===

		=== libstdc++-v3 tests ===


Running target unix

		=== libstdc++-v3 Summary ===


Compiler version: 3.0.3 
Platform: i686-pc-linux-gnu
configure flags: --host=i686-pc-linux-gnu



More information about the Gcc-testresults mailing list