Results for haifa-enabled gcc testsuite on i686-pc-linux-gnu
David W Schuler
schuld@plan9.btv.ibm.com
Fri Mar 9 11:00:00 GMT 2001
Native configuration is i686-pc-linux-gnu
=== libio tests ===
Running target unix
=== libio Summary ===
# of expected passes 40
=== libstdc++ tests ===
Running target unix
=== libstdc++ Summary ===
# of expected passes 30
=== gcc tests ===
Running target unix
=== gcc Summary ===
=== g++ tests ===
Running target unix
=== g++ Summary ===
=== g77 tests ===
Running target unix
=== g77 Summary ===
=== objc tests ===
Running target unix
=== objc Summary ===
Compiler version: haifa-enabled gcc
Platform: i686-pc-linux-gnu
configure flags: --with-gcc-version-trigger=/usr/local/tmp/egcs/gcc/version.c --host=i686-pc-linux-gnu --prefix=/usr/local/egcs --enable-haifa --enable-multilib --norecursion
Counting all warnings,
there are 13 warnings in stage3 of this bootstrap.
Number of warnings per file:
9 ../../egcs/gcc/toplev.c
2 cxxmain.c
1 ../../egcs/gcc/reload1.c
1 ../../../egcs/gcc/f/com.c
Number of warning types:
9 initialization from incompatible pointer type
2 assignment discards qualifiers from pointer target type
1 unused parameter ???
1 passing arg ??? of ??? from incompatible pointer type
More information about the Gcc-testresults
mailing list