Results for 2.95 19990714 on i586-pc-cygwin32
Tim C Prince
Prince_Tim_C@solarturbines.com
Wed Jul 14 17:06:00 GMT 1999
Native configuration is i586-pc-cygwin32
=== g++ tests ===
Running target unix
=== g++ Summary ===
# of expected passes 299
# of expected failures 2
# of untested testcases 1
/cygnus/CYGWIN~1/H-I586~1/bin/c++ version 2.95 19990712 (prerelease)
=== g77 tests ===
Running target unix
=== g77 Summary ===
# of expected passes 391
=== gcc tests ===
=== gcc Summary ===
# of expected passes 2292
# of expected failures 7
Running target unix
=== objc tests ===
Running target unix
=== objc Summary ===
# of expected passes 38
d:/gnu/egcs-19990418/cw/gcc/xgcc version 2.95 19990714 (prerelease)
=== libstdc++ tests ===
Running target unix
=== libstdc++ Summary ===
# of expected passes 30
Compiler version: 2.95 19990714 (prerelease)
Platform: i586-pc-cygwin32
configure flags: --with-gcc-version-trigger=/gnu/egcs-19990418/gcc/version.c --prefix=//d/cygnus/cygwin-b20/H-i586-cygwin32 --host=i586-pc-cygwin32 --target=i586-pc-cygwin32 --norecursion
EOF
Mail -s "Results for 2.95 19990714 (prerelease) testsuite on i586-pc-cygwin32" egcs-testresults@egcs.cygnus.com &&
More information about the Gcc-testresults
mailing list