Results for gcc testsuite on rs6000-ibm-aix4.2.1.0
David W. Schuler
schuld@btv.ibm.com
Tue Aug 10 16:14:00 GMT 1999
Native configuration is rs6000-ibm-aix4.2.1.0
=== libstdc++ tests ===
Running target unix
=== libstdc++ Summary ===
# of expected passes 30
=== gcc tests ===
Running target unix
=== gcc Summary ===
=== g++ tests ===
Running target unix
=== g++ Summary ===
=== g77 tests ===
Running target unix
=== g77 Summary ===
=== objc tests ===
Running target unix
=== objc Summary ===
Compiler version: gcc
Platform: rs6000-ibm-aix4.2.1.0
configure flags: --with-gcc-version-trigger=/usr/local/x86srvr1/WORKSPACE5/schuld/EGCS/egcs-19990808/gcc/version.c --host=rs6000-ibm-aix4.2.1.0 --prefix=/afs/btv.ibm.com/data/n37v/software/gnu-aix42/egcs --norecursion
Counting all warnings,
there are 3 warnings in stage3 of this bootstrap.
Number of warnings per file:
2 cxxmain.c
1 ../../../egcs/gcc/f/com.c
Number of warning types:
2 assignment discards qualifiers from pointer target type
1 unused parameter ???
More information about the Gcc-testresults
mailing list