Results for egcs libio testsuite on sparc-sun-solaris2.5
Alexandre Oliva
oliva@dcc.unicamp.br
Tue Apr 13 21:33:00 GMT 1999
Native configuration is sparc-sun-solaris2.5
=== libio tests ===
Running target unix
=== libio Summary ===
# of expected passes 40
Compiler version: egcs libio
Platform: sparc-sun-solaris2.5
BOOT_CFLAGS: -g -O9 -W -Wall
Counting all warnings,
there are 444 warnings in stage3 of this bootstrap.
Number of warnings per file:
28 /home/phd/oliva/src/egcs/gcc/objc/objc-act.c
24 /home/phd/oliva/src/egcs/gcc/java/lex.c
22 /home/phd/oliva/src/egcs/gcc/integrate.c
20 /home/phd/oliva/src/egcs/gcc/cse.c
18 ./parse.y
16 /home/phd/oliva/src/egcs/gcc/reload1.c
14 /home/phd/oliva/src/egcs/gcc/final.c
14 /home/phd/oliva/src/egcs/gcc/combine.c
14 /home/phd/oliva/src/egcs/gcc/calls.c
12 /home/phd/oliva/src/egcs/gcc/unroll.c
12 /home/phd/oliva/src/egcs/gcc/reload.c
12 /home/phd/oliva/src/egcs/gcc/loop.c
12 /home/phd/oliva/src/egcs/gcc/java/jcf-reader.c
12 /home/phd/oliva/src/egcs/gcc/java/expr.c
12 /home/phd/oliva/src/egcs/gcc/fold-const.c
12 /home/phd/oliva/src/egcs/gcc/dwarf2out.c
10 /home/phd/oliva/src/egcs/gcc/varasm.c
8 cexp.y
8 /home/phd/oliva/src/egcs/gcc/tlink.c
8 /home/phd/oliva/src/egcs/gcc/regmove.c
8 /home/phd/oliva/src/egcs/gcc/optabs.c
8 /home/phd/oliva/src/egcs/gcc/java/lex.h
8 /home/phd/oliva/src/egcs/gcc/java/../hwint.h
8 /home/phd/oliva/src/egcs/gcc/expr.c
8 /home/phd/oliva/src/egcs/gcc/ch/actions.c
6 cxxmain.c
6 /home/phd/oliva/src/egcs/gcc/stmt.c
6 /home/phd/oliva/src/egcs/gcc/java/verify.c
6 /home/phd/oliva/src/egcs/gcc/genopinit.c
6 /home/phd/oliva/src/egcs/gcc/function.c
6 /home/phd/oliva/src/egcs/gcc/cccp.c
4 insn-attrtab.c
4 /home/phd/oliva/src/egcs/gcc/local-alloc.c
4 /home/phd/oliva/src/egcs/gcc/java/gjavah.c
4 /home/phd/oliva/src/egcs/gcc/java/class.c
4 /home/phd/oliva/src/egcs/gcc/fix-header.c
4 /home/phd/oliva/src/egcs/gcc/dbxout.c
4 /home/phd/oliva/src/egcs/gcc/cpphash.c
4 /home/phd/oliva/src/egcs/gcc/collect2.c
4 /home/phd/oliva/src/egcs/gcc/alias.c
2 splay-tree.c
2 insn-emit.c
2 /home/phd/oliva/src/egcs/gcc/stupid.c
2 /home/phd/oliva/src/egcs/gcc/scan-decls.c
2 /home/phd/oliva/src/egcs/gcc/rtl.c
2 /home/phd/oliva/src/egcs/gcc/regclass.c
2 /home/phd/oliva/src/egcs/gcc/jump.c
2 /home/phd/oliva/src/egcs/gcc/java/jcf-write.c
2 /home/phd/oliva/src/egcs/gcc/java/jcf-io.c
2 /home/phd/oliva/src/egcs/gcc/java/javaop.def
2 /home/phd/oliva/src/egcs/gcc/java/decl.c
2 /home/phd/oliva/src/egcs/gcc/hash.c
2 /home/phd/oliva/src/egcs/gcc/graph.c
2 /home/phd/oliva/src/egcs/gcc/genattrtab.c
2 /home/phd/oliva/src/egcs/gcc/flow.c
2 /home/phd/oliva/src/egcs/gcc/f/g77spec.c
2 /home/phd/oliva/src/egcs/gcc/explow.c
2 /home/phd/oliva/src/egcs/gcc/emit-rtl.c
2 /home/phd/oliva/src/egcs/gcc/cp/sig.c
2 /home/phd/oliva/src/egcs/gcc/cp/expr.c
2 /home/phd/oliva/src/egcs/gcc/cp/decl.c
2 /home/phd/oliva/src/egcs/gcc/ch/expr.c
Number of warning types:
204 `???' might be used uninitialized in this function
94 comparison between signed and unsigned
86 unused parameter `???'
24 variable `???' might be clobbered by `longjmp' or `vfork'
8 this is the location of the previous definition
8 `???' redefined
6 implicit declaration of function `???'
6 empty body in an else-statement
4 unused variable `???'
4 control reaches end of non-void function
More information about the Gcc-testresults
mailing list