This is the mail archive of the
gcc-testresults@gcc.gnu.org
mailing list for the GCC project.
Results for 8.0.0 20170921 (experimental) [trunk revision 253047] (GCC) libstdc++ testsuite on x86_64-pc-linux-gnu
- From: jwakely dot gcc at gmail dot com(Jonathan Wakely)
- To: gcc-testresults at gcc dot gnu dot org
- Date: Thu, 21 Sep 2017 10:21:15 +0100
- Subject: Results for 8.0.0 20170921 (experimental) [trunk revision 253047] (GCC) libstdc++ testsuite on x86_64-pc-linux-gnu
- Authentication-results: sourceware.org; auth=none
Native configuration is x86_64-pc-linux-gnu
=== libstdc++ tests ===
Running target unix/-std=gnu++11
=== libstdc++ Summary for unix/-std=gnu++11 ===
# of expected passes 11833
# of expected failures 70
# of unsupported tests 571
Running target unix/-std=gnu++11/-D_GLIBCXX_USE_CXX11_ABI=0
=== libstdc++ Summary for unix/-std=gnu++11/-D_GLIBCXX_USE_CXX11_ABI=0 ===
# of expected passes 11800
# of expected failures 70
# of unsupported tests 589
Running target unix/-std=gnu++11/-m32
=== libstdc++ Summary for unix/-std=gnu++11/-m32 ===
# of expected passes 11841
# of expected failures 70
# of unsupported tests 567
Running target unix/-std=gnu++11/-m32/-D_GLIBCXX_USE_CXX11_ABI=0
=== libstdc++ Summary for unix/-std=gnu++11/-m32/-D_GLIBCXX_USE_CXX11_ABI=0 ===
# of expected passes 11808
# of expected failures 70
# of unsupported tests 585
Running target unix/-std=gnu++14
=== libstdc++ Summary for unix/-std=gnu++14 ===
# of expected passes 12438
# of expected failures 70
# of unsupported tests 250
Running target unix/-std=gnu++14/-D_GLIBCXX_USE_CXX11_ABI=0
=== libstdc++ Summary for unix/-std=gnu++14/-D_GLIBCXX_USE_CXX11_ABI=0 ===
# of expected passes 12405
# of expected failures 70
# of unsupported tests 268
Running target unix/-std=gnu++14/-m32
=== libstdc++ Summary for unix/-std=gnu++14/-m32 ===
# of expected passes 12446
# of expected failures 70
# of unsupported tests 246
Running target unix/-std=gnu++14/-m32/-D_GLIBCXX_USE_CXX11_ABI=0
=== libstdc++ Summary for unix/-std=gnu++14/-m32/-D_GLIBCXX_USE_CXX11_ABI=0 ===
# of expected passes 12413
# of expected failures 70
# of unsupported tests 264
Running target unix/-std=gnu++17
=== libstdc++ Summary for unix/-std=gnu++17 ===
# of expected passes 12392
# of expected failures 71
# of unsupported tests 262
Running target unix/-std=gnu++17/-D_GLIBCXX_USE_CXX11_ABI=0
=== libstdc++ Summary for unix/-std=gnu++17/-D_GLIBCXX_USE_CXX11_ABI=0 ===
# of expected passes 12359
# of expected failures 71
# of unsupported tests 280
Running target unix/-std=gnu++17/-m32
=== libstdc++ Summary for unix/-std=gnu++17/-m32 ===
# of expected passes 12400
# of expected failures 71
# of unsupported tests 258
Running target unix/-std=gnu++17/-m32/-D_GLIBCXX_USE_CXX11_ABI=0
=== libstdc++ Summary for unix/-std=gnu++17/-m32/-D_GLIBCXX_USE_CXX11_ABI=0 ===
# of expected passes 12367
# of expected failures 71
# of unsupported tests 276
Running target unix/-std=gnu++98
=== libstdc++ Summary for unix/-std=gnu++98 ===
# of expected passes 6653
# of expected failures 23
# of unsupported tests 3466
Running target unix/-std=gnu++98/-D_GLIBCXX_USE_CXX11_ABI=0
=== libstdc++ Summary for unix/-std=gnu++98/-D_GLIBCXX_USE_CXX11_ABI=0 ===
# of expected passes 6653
# of expected failures 23
# of unsupported tests 3466
Running target unix/-std=gnu++98/-m32
=== libstdc++ Summary for unix/-std=gnu++98/-m32 ===
# of expected passes 6653
# of expected failures 23
# of unsupported tests 3466
Running target unix/-std=gnu++98/-m32/-D_GLIBCXX_USE_CXX11_ABI=0
=== libstdc++ Summary for unix/-std=gnu++98/-m32/-D_GLIBCXX_USE_CXX11_ABI=0 ===
# of expected passes 6653
# of expected failures 23
# of unsupported tests 3466
=== libstdc++ Summary ===
# of expected passes 173114
# of expected failures 936
# of unsupported tests 18280
gcc version 8.0.0 20170921 (experimental) [trunk revision 253047] (GCC)
Compiler version: 8.0.0 20170921 (experimental) [trunk revision 253047] (GCC) libstdc++
Platform: x86_64-pc-linux-gnu
configure flags: --enable-languages=c++ --disable-bootstrap --disable-libcc1 --disable-libcilkrts --disable-libhsail-rt --disable-libmpx --disable-liboffloadmic --disable-libvtv --with-system-zlib --with-gnu-ld --with-gnu-as --without-isl
Fedora release 26 (Twenty Six)
GNU C Library (GNU libc) stable release version 2.25, by Roland McGrath et al.
GNU assembler version 2.27-24.fc26
GNU ld version 2.27-24.fc26
DejaGnu version 1.6
Expect version 5.45
Tcl version 8.6