This is the mail archive of the gcc-testresults@gcc.gnu.org mailing list for the GCC project.


Index Nav: [Date Index] [Subject Index] [Author Index] [Thread Index]
Message Nav: [Date Prev] [Date Next] [Thread Prev] [Thread Next]
Other format: [Raw text]

Results for 6.0.0 20150514 (experimental) [trunk revision 223199] (GCC) testsuite on x86_64-unknown-linux-gnu


LAST_UPDATED: Thu May 14 15:55:09 UTC 2015 (revision 223199)

Native configuration is x86_64-unknown-linux-gnu

		=== gcc tests ===


Running target sde-sim

		=== gcc Summary ===

# of expected passes		4216
# of expected failures		3
# of unsupported tests		866
/nightly/gcc.svn/test-intel64corei7avx512/gcc-build-trunk/bld/gcc/xgcc  version 6.0.0 20150514 (experimental) [trunk revision 223199] (GCC) 

		=== gfortran tests ===


Running target sde-sim

		=== gfortran Summary ===

/nightly/gcc.svn/test-intel64corei7avx512/gcc-build-trunk/bld/gcc/testsuite/gfortran/../../gfortran  version 6.0.0 20150514 (experimental) [trunk revision 223199] (GCC) 

		=== g++ tests ===


Running target sde-sim

		=== g++ Summary ===

/nightly/gcc.svn/test-intel64corei7avx512/gcc-build-trunk/bld/gcc/testsuite/g++/../../xg++  version 6.0.0 20150514 (experimental) [trunk revision 223199] (GCC) 

		=== objc tests ===


Running target sde-sim

		=== objc Summary ===

/nightly/gcc.svn/test-intel64corei7avx512/gcc-build-trunk/bld/gcc/xgcc  version 6.0.0 20150514 (experimental) [trunk revision 223199] (GCC) 

		=== boehm-gc tests ===


Running target sde-sim

		=== boehm-gc Summary ===

		=== libatomic tests ===


Running target sde-sim

		=== libatomic Summary ===

		=== libffi tests ===


Running target sde-sim

		=== libffi Summary ===

		=== libgomp tests ===


Running target sde-sim

		=== libgomp Summary ===

		=== libitm tests ===


Running target sde-sim

		=== libitm Summary ===

		=== libjava tests ===


Running target sde-sim

		=== libjava Summary ===

		=== libstdc++ tests ===


Running target sde-sim

		=== libstdc++ Summary ===


Compiler version: 6.0.0 20150514 (experimental) [trunk revision 223199] (GCC) 
Platform: x86_64-unknown-linux-gnu
configure flags: --prefix=/usr/local --enable-clocale=gnu --with-system-zlib --enable-shared --with-demangler-in-ld --enable-cloog-backend=isl --with-ppl-include=/opt/gnu/include --with-ppl-lib=/opt/gnu/lib64 --with-cloog-include=/opt/gnu/include --with-cloog-lib=/opt/gnu/lib64 --with-fpmath=sse --enable-languages=c,c++,fortran,java,lto,objc


Index Nav: [Date Index] [Subject Index] [Author Index] [Thread Index]
Message Nav: [Date Prev] [Date Next] [Thread Prev] [Thread Next]