This is the mail archive of the gcc-testresults@gcc.gnu.org mailing list for the GCC project.
Index Nav: | [Date Index] [Subject Index] [Author Index] [Thread Index] | |
---|---|---|
Message Nav: | [Date Prev] [Date Next] | [Thread Prev] [Thread Next] |
Other format: | [Raw text] |
Native configuration is x86_64-unknown-cygwin === g++ tests === === g++ Summary === # of expected passes 83199 # of unexpected failures 453 # of unexpected successes 3 # of expected failures 261 # of unresolved testcases 27 # of unsupported tests 3677 /cygdrive/c/users/tim/tim/tim/src/gnu/gcc2/cyg64/gcc/testsuite/g++/../../xg++ version 5.0.0 20150122 (experimental) (GCC) === gcc tests === Running target unix === gcc Summary === # of expected passes 107570 # of unexpected failures 993 # of unexpected successes 35 # of expected failures 273 # of unresolved testcases 421 # of unsupported tests 1682 /cygdrive/c/users/tim/tim/tim/src/gnu/gcc2/cyg64/gcc/xgcc version 5.0.0 20150122 (experimental) (GCC) === gfortran tests === Running target unix === gfortran Summary === # of expected passes 47399 # of unexpected failures 72 # of unexpected successes 8 # of expected failures 62 # of unresolved testcases 8 # of unsupported tests 272 /cygdrive/c/users/tim/tim/tim/src/gnu/gcc2/cyg64/gcc/testsuite/gfortran/../../gfortran version 5.0.0 20150122 (experimental) (GCC) === libatomic tests === Running target unix === libgomp tests === Running target unix === libstdc++ tests === Running target unix === libstdc++ Summary === # of expected passes 9282 # of unexpected failures 235 # of unexpected successes 1 # of expected failures 64 # of unresolved testcases 11 # of unsupported tests 709 Compiler version: 5.0.0 20150122 (experimental) (GCC) Platform: x86_64-unknown-cygwin configure flags: --prefix=/usr/local/gcc5.0 --enable-languages='c c++ fortran' --enable-libgomp --enable-threads=posix --with-dwarf2 --without-libiconv-prefix --without-libintl-prefix --with-system-zlib --disable-werror --without-cloog --without-isl --enable-languages=c,c++,fortran,lto --no-create --no-recursion -- Tim Prince
Attachment:
summary1
Description: Text document
Index Nav: | [Date Index] [Subject Index] [Author Index] [Thread Index] | |
---|---|---|
Message Nav: | [Date Prev] [Date Next] | [Thread Prev] [Thread Next] |