This is the mail archive of the gcc-testresults@gcc.gnu.org mailing list for the GCC project.


Index Nav: [Date Index] [Subject Index] [Author Index] [Thread Index]
Message Nav: [Date Prev] [Date Next] [Thread Prev] [Thread Next]
Other format: [Raw text]

Results for 5.0.0 20141126 (experimental) [trunk revision 218078] (GCC) testsuite on i686-pc-linux-gnu


LAST_UPDATED: Wed Nov 26 12:40:10 UTC 2014 (revision 218078)

Native configuration is i686-pc-linux-gnu

		=== gcc tests ===


Running target sde-sim

		=== gcc Summary ===

# of expected passes		4949
# of expected failures		4
# of unsupported tests		539
/nightly/gcc.svn/test-intel32corei7avx512/gcc-build-trunk/bld/gcc/xgcc  version 5.0.0 20141126 (experimental) [trunk revision 218078] (GCC) 

		=== gfortran tests ===


Running target sde-sim

		=== gfortran Summary ===

/nightly/gcc.svn/test-intel32corei7avx512/gcc-build-trunk/bld/gcc/testsuite/gfortran/../../gfortran  version 5.0.0 20141126 (experimental) [trunk revision 218078] (GCC) 

		=== g++ tests ===


Running target sde-sim

		=== g++ Summary ===

/nightly/gcc.svn/test-intel32corei7avx512/gcc-build-trunk/bld/gcc/testsuite/g++/../../xg++  version 5.0.0 20141126 (experimental) [trunk revision 218078] (GCC) 

		=== objc tests ===


Running target sde-sim

		=== objc Summary ===

/nightly/gcc.svn/test-intel32corei7avx512/gcc-build-trunk/bld/gcc/xgcc  version 5.0.0 20141126 (experimental) [trunk revision 218078] (GCC) 

		=== boehm-gc tests ===


Running target sde-sim

		=== boehm-gc Summary ===

		=== libatomic tests ===


Running target sde-sim

		=== libatomic Summary ===

		=== libffi tests ===


Running target sde-sim

		=== libffi Summary ===

		=== libgomp tests ===


Running target sde-sim

		=== libgomp Summary ===

		=== libitm tests ===


Running target sde-sim

		=== libitm Summary ===

		=== libjava tests ===


Running target sde-sim

		=== libjava Summary ===

		=== libstdc++ tests ===


Running target sde-sim

		=== libstdc++ Summary ===


Compiler version: 5.0.0 20141126 (experimental) [trunk revision 218078] (GCC) 
Platform: i686-pc-linux-gnu
configure flags: --prefix=/usr/local --enable-clocale=gnu --with-system-zlib --enable-shared --with-demangler-in-ld --enable-cloog-backend=isl --with-ppl=/opt/gnu --with-cloog=/opt/gnu i686-linux --with-fpmath=sse --enable-languages=c,c++,fortran,java,lto,objc


Index Nav: [Date Index] [Subject Index] [Author Index] [Thread Index]
Message Nav: [Date Prev] [Date Next] [Thread Prev] [Thread Next]