This is the mail archive of the gcc-testresults@gcc.gnu.org mailing list for the GCC project.


Index Nav: [Date Index] [Subject Index] [Author Index] [Thread Index]
Message Nav: [Date Prev] [Date Next] [Thread Prev] [Thread Next]
Other format: [Raw text]

Results for 4.9.2 (GCC) testsuite on x86_64-unknown-linux-gnu


LAST_UPDATED: Obtained from SVN: tags/gcc_4_9_2_release revision 216910

Native configuration is x86_64-unknown-linux-gnu

		=== gcc tests ===


Running target unix

		=== gcc Summary ===

# of expected passes		106509
# of expected failures		252
# of unsupported tests		1404
/home/xry111/gcc-4.9.2-obj/gcc/xgcc  version 4.9.2 (GCC) 

		=== g++ tests ===


Running target unix
XPASS: g++.dg/tls/thread_local-order2.C -std=c++11 execution test
XPASS: g++.dg/tls/thread_local-order2.C -std=c++1y execution test

		=== g++ Summary ===

# of expected passes		88565
# of unexpected successes	2
# of expected failures		443
# of unsupported tests		3066
/home/xry111/gcc-4.9.2-obj/gcc/testsuite/g++/../../xg++  version 4.9.2 (GCC) 

		===  tests ===


Running target unix

		===  Summary ===

		=== libatomic tests ===


Running target unix

		=== libatomic Summary ===

# of expected passes		54
		=== libgomp tests ===


Running target unix

		=== libgomp Summary ===

# of expected passes		693
		=== libitm tests ===


Running target unix

		=== libitm Summary ===

# of expected passes		26
# of expected failures		3
# of unsupported tests		1
		=== libstdc++ tests ===


Running target unix

		=== libstdc++ Summary ===

# of expected passes		9447
# of expected failures		41
# of unsupported tests		533

Compiler version: 4.9.2 (GCC) 
Platform: x86_64-unknown-linux-gnu
configure flags: --enable-languages=c,c++ --disable-libada


Index Nav: [Date Index] [Subject Index] [Author Index] [Thread Index]
Message Nav: [Date Prev] [Date Next] [Thread Prev] [Thread Next]