This is the mail archive of the gcc-testresults@gcc.gnu.org mailing list for the GCC project.


Index Nav: [Date Index] [Subject Index] [Author Index] [Thread Index]
Message Nav: [Date Prev] [Date Next] [Thread Prev] [Thread Next]
Other format: [Raw text]

Results for 4.10.0 20140812 (experimental) (GCC) testsuite on x86_64-unknown-cygwin


                === gfortran Summary ===

# of expected passes            45857
# of unexpected failures        180
# of unexpected successes       8
# of expected failures          38
# of unresolved testcases       8
# of unsupported tests          266
/cygdrive/c/users/tim/tim/tim/src/gnu/gcc1/cyg64/gcc/testsuite/gfortran/../../gf
ortran  version 4.10.0 20140812 (experimental) (GCC)
                === gcc Summary ===

# of expected passes            70747
# of unexpected failures        689
# of unexpected successes       40
# of expected failures          262
# of unresolved testcases       177
# of unsupported tests          1276
/cygdrive/c/users/tim/tim/tim/src/gnu/gcc1/cyg64/gcc/xgcc version 4.10.0 201408
12 (experimental) (GCC)


Attachment: summary
Description: Text document


Index Nav: [Date Index] [Subject Index] [Author Index] [Thread Index]
Message Nav: [Date Prev] [Date Next] [Thread Prev] [Thread Next]