This is the mail archive of the
gcc-testresults@gcc.gnu.org
mailing list for the GCC project.
Results for gcc obj-c++ testsuite on powerpc64le-unknown-linux-gnu
- From: Bill Schmidt <wschmidt at us dot ibm dot com>
- To: gcc-testresults at gcc dot gnu dot org
- Date: Wed, 9 Jul 2014 13:21:07 -0500
- Subject: Results for gcc obj-c++ testsuite on powerpc64le-unknown-linux-gnu
- Authentication-results: sourceware.org; auth=none
Native configuration is powerpc64le-unknown-linux-gnu
=== obj-c++ tests ===
Running target unix
=== obj-c++ Summary ===
Compiler version: gcc obj-c++
Platform: powerpc64le-unknown-linux-gnu
configure flags:Test Run By gccbuild on Wed Jul 9 13:18:35 2014