This is the mail archive of the gcc-testresults@gcc.gnu.org mailing list for the GCC project.


Index Nav: [Date Index] [Subject Index] [Author Index] [Thread Index]
Message Nav: [Date Prev] [Date Next] [Thread Prev] [Thread Next]
Other format: [Raw text]

Results for 4.7.3 20121222 (prerelease) [gcc-4_7-branch revision 194698] (GCC) testsuite on hppa64-hp-hpux11.11


Native configuration is hppa64-hp-hpux11.11

		=== g++ tests ===


Running target unix
WARNING: program timed out.

		=== g++ Summary ===

# of expected passes		45031
# of expected failures		291
# of unsupported tests		899
/mnt/gnu/gcc/objdir-test/gcc/testsuite/g++/../../g++  version 4.7.3 20121222 (prerelease) [gcc-4_7-branch revision 194698] (GCC) 

		=== gcc tests ===


Running target unix
WARNING: program timed out.

		=== gcc Summary ===

# of expected passes		71233
# of expected failures		121
# of unsupported tests		1502
/mnt/gnu/gcc/objdir-test/gcc/xgcc  version 4.7.3 20121222 (prerelease) [gcc-4_7-branch revision 194698] (GCC) 

		=== gfortran tests ===


Running target unix

		=== gfortran Summary ===

# of expected passes		39632
# of expected failures		42
# of unsupported tests		375
/mnt/gnu/gcc/objdir-test/gcc/testsuite/gfortran/../../gfortran  version 4.7.3 20121222 (prerelease) [gcc-4_7-branch revision 194698] (GCC) 

		=== obj-c++ tests ===


Running target unix

		=== obj-c++ Summary ===

# of expected passes		1442
# of expected failures		10
# of unsupported tests		86
/mnt/gnu/gcc/objdir-test/gcc/testsuite/obj-c++/../../g++  version 4.7.3 20121222 (prerelease) [gcc-4_7-branch revision 194698] (GCC) 

		=== objc tests ===


Running target unix

		=== objc Summary ===

# of expected passes		2992
# of unsupported tests		75
/mnt/gnu/gcc/objdir-test/gcc/xgcc  version 4.7.3 20121222 (prerelease) [gcc-4_7-branch revision 194698] (GCC) 

		=== libgomp tests ===


Running target unix

		=== libgomp Summary ===

# of expected passes		2910
# of unsupported tests		10
		=== libstdc++ tests ===


Running target unix

		=== libstdc++ Summary ===

# of expected passes		7356
# of expected failures		43
# of unsupported tests		805

Compiler version: 4.7.3 20121222 (prerelease) [gcc-4_7-branch revision 194698] (GCC) 
Platform: hppa64-hp-hpux11.11
configure flags:Test Run By dave on Sun Dec 23 01:23:36 2012


Index Nav: [Date Index] [Subject Index] [Author Index] [Thread Index]
Message Nav: [Date Prev] [Date Next] [Thread Prev] [Thread Next]