This is the mail archive of the
gcc-testresults@gcc.gnu.org
mailing list for the GCC project.
Results for 4.6.4 20120617 (prerelease) [gcc-4_6-branch revision 188707] (GCC) testsuite on hppa64-hp-hpux11.11
- From: John David Anglin <dave at hiauly3 dot hia dot nrc dot ca>
- To: dave at hiauly3 dot hia dot nrc dot ca, gcc-testresults at gcc dot gnu dot org
- Date: Mon, 18 Jun 2012 18:11:21 -0400 (EDT)
- Subject: Results for 4.6.4 20120617 (prerelease) [gcc-4_6-branch revision 188707] (GCC) testsuite on hppa64-hp-hpux11.11
Native configuration is hppa64-hp-hpux11.11
=== g++ tests ===
Running target unix
XPASS: g++.dg/uninit-pred-3_b.C (test for excess errors)
WARNING: program timed out.
=== g++ Summary ===
# of expected passes 25137
# of unexpected successes 1
# of expected failures 170
# of unsupported tests 602
/mnt/gnu/gcc/objdir-test/gcc/testsuite/g++/../../g++ version 4.6.4 20120617 (prerelease) [gcc-4_6-branch revision 188707] (GCC)
=== gcc tests ===
Running target unix
WARNING: program timed out.
=== gcc Summary ===
# of expected passes 67611
# of expected failures 134
# of unsupported tests 1254
/mnt/gnu/gcc/objdir-test/gcc/xgcc version 4.6.4 20120617 (prerelease) [gcc-4_6-branch revision 188707] (GCC)
=== gfortran tests ===
Running target unix
=== gfortran Summary ===
# of expected passes 37843
# of expected failures 41
# of unsupported tests 363
/mnt/gnu/gcc/objdir-test/gcc/testsuite/gfortran/../../gfortran version 4.6.4 20120617 (prerelease) [gcc-4_6-branch revision 188707] (GCC)
=== obj-c++ tests ===
Running target unix
=== obj-c++ Summary ===
# of expected passes 1380
# of expected failures 10
# of unsupported tests 86
/mnt/gnu/gcc/objdir-test/gcc/testsuite/obj-c++/../../g++ version 4.6.4 20120617 (prerelease) [gcc-4_6-branch revision 188707] (GCC)
=== objc tests ===
Running target unix
=== objc Summary ===
# of expected passes 2914
# of expected failures 10
# of unsupported tests 75
/mnt/gnu/gcc/objdir-test/gcc/xgcc version 4.6.4 20120617 (prerelease) [gcc-4_6-branch revision 188707] (GCC)
=== libgomp tests ===
Running target unix
=== libgomp Summary ===
# of expected passes 2614
# of unsupported tests 10
=== libstdc++ tests ===
Running target unix
=== libstdc++ Summary ===
# of expected passes 6905
# of expected failures 82
# of unsupported tests 738
Compiler version: 4.6.4 20120617 (prerelease) [gcc-4_6-branch revision 188707] (GCC)
Platform: hppa64-hp-hpux11.11
configure flags:Test Run By dave on Mon Jun 18 03:19:42 2012