This is the mail archive of the
gcc-testresults@gcc.gnu.org
mailing list for the GCC project.
Results for 4.7.1 20120517 (prerelease) [gcc-4_7-branch revision 187620] (GCC) testsuite on hppa64-hp-hpux11.11
- From: John David Anglin <dave at hiauly3 dot hia dot nrc dot ca>
- To: dave at hiauly3 dot hia dot nrc dot ca, gcc-testresults at gcc dot gnu dot org
- Date: Fri, 18 May 2012 15:48:17 -0400 (EDT)
- Subject: Results for 4.7.1 20120517 (prerelease) [gcc-4_7-branch revision 187620] (GCC) testsuite on hppa64-hp-hpux11.11
Native configuration is hppa64-hp-hpux11.11
=== g++ tests ===
Running target unix
WARNING: program timed out.
=== g++ Summary ===
# of expected passes 44860
# of expected failures 290
# of unsupported tests 881
/mnt/gnu/gcc/objdir-test/gcc/testsuite/g++/../../g++ version 4.7.1 20120517 (prerelease) [gcc-4_7-branch revision 187620] (GCC)
=== gcc tests ===
Running target unix
WARNING: program timed out.
=== gcc Summary ===
# of expected passes 70631
# of expected failures 119
# of unsupported tests 1500
/mnt/gnu/gcc/objdir-test/gcc/xgcc version 4.7.1 20120517 (prerelease) [gcc-4_7-branch revision 187620] (GCC)
=== gfortran tests ===
Running target unix
=== gfortran Summary ===
# of expected passes 39560
# of expected failures 42
# of unsupported tests 375
/mnt/gnu/gcc/objdir-test/gcc/testsuite/gfortran/../../gfortran version 4.7.1 20120517 (prerelease) [gcc-4_7-branch revision 187620] (GCC)
=== obj-c++ tests ===
Running target unix
=== obj-c++ Summary ===
# of expected passes 1442
# of expected failures 10
# of unsupported tests 86
/mnt/gnu/gcc/objdir-test/gcc/testsuite/obj-c++/../../g++ version 4.7.1 20120517 (prerelease) [gcc-4_7-branch revision 187620] (GCC)
=== objc tests ===
Running target unix
=== objc Summary ===
# of expected passes 2992
# of unsupported tests 75
/mnt/gnu/gcc/objdir-test/gcc/xgcc version 4.7.1 20120517 (prerelease) [gcc-4_7-branch revision 187620] (GCC)
=== libgomp tests ===
Running target unix
=== libgomp Summary ===
# of expected passes 2932
# of unsupported tests 10
=== libstdc++ tests ===
Running target unix
=== libstdc++ Summary ===
# of expected passes 7302
# of expected failures 43
# of unsupported tests 797
Compiler version: 4.7.1 20120517 (prerelease) [gcc-4_7-branch revision 187620] (GCC)
Platform: hppa64-hp-hpux11.11
configure flags:Test Run By dave on Thu May 17 13:03:48 2012