This is the mail archive of the
gcc-testresults@gcc.gnu.org
mailing list for the GCC project.
Results for 4.7.0 20120304 (prerelease) (GCC) testsuite on mips-unknown-elf
- From: Richard Sandiford <rdsandiford at googlemail dot com>
- To: gcc-testresults at gcc dot gnu dot org
- Date: Sun, 04 Mar 2012 20:31:11 +0000
- Subject: Results for 4.7.0 20120304 (prerelease) (GCC) testsuite on mips-unknown-elf
- Authentication-results: mr.google.com; spf=pass (google.com: domain of rdsandiford@googlemail.com designates 10.216.135.169 as permitted sender) smtp.mail=rdsandiford@googlemail.com; dkim=pass header.i=rdsandiford@googlemail.com
Target is mips-unknown-elf
=== gcc tests ===
Running target mips-sim/-EB
=== gcc Summary for mips-sim/-EB ===
# of expected passes 72993
# of expected failures 102
# of unsupported tests 1427
Running target mips-sim/-EL
=== gcc Summary for mips-sim/-EL ===
# of expected passes 72993
# of expected failures 102
# of unsupported tests 1427
Running target mips-sim/-msoft-float/-EB
=== gcc Summary for mips-sim/-msoft-float/-EB ===
# of expected passes 72989
# of expected failures 101
# of unsupported tests 1429
Running target mips-sim/-msoft-float/-EL
=== gcc Summary for mips-sim/-msoft-float/-EL ===
# of expected passes 72989
# of expected failures 101
# of unsupported tests 1429
=== gcc Summary ===
# of expected passes 291964
# of expected failures 406
# of unsupported tests 5712
/home/rsandifo/gcc/gcc-4_7-branch/mips-elf/x86_64-unknown-linux-gnu/gcc/xgcc version 4.7.0 20120304 (prerelease) (GCC)
=== g++ tests ===
Running target mips-sim/-EB
=== g++ Summary for mips-sim/-EB ===
# of expected passes 44452
# of expected failures 279
# of unsupported tests 778
Running target mips-sim/-EL
=== g++ Summary for mips-sim/-EL ===
# of expected passes 44452
# of expected failures 279
# of unsupported tests 778
Running target mips-sim/-msoft-float/-EB
=== g++ Summary for mips-sim/-msoft-float/-EB ===
# of expected passes 44452
# of expected failures 279
# of unsupported tests 778
Running target mips-sim/-msoft-float/-EL
=== g++ Summary for mips-sim/-msoft-float/-EL ===
# of expected passes 44452
# of expected failures 279
# of unsupported tests 778
=== g++ Summary ===
# of expected passes 177808
# of expected failures 1116
# of unsupported tests 3112
/home/rsandifo/gcc/gcc-4_7-branch/mips-elf/x86_64-unknown-linux-gnu/gcc/testsuite/g++/../../g++ version 4.7.0 20120304 (prerelease) (GCC)
=== objc tests ===
Running target mips-sim/-EB
=== objc Summary for mips-sim/-EB ===
# of expected passes 2945
# of expected failures 1
# of unsupported tests 98
Running target mips-sim/-EL
=== objc Summary for mips-sim/-EL ===
# of expected passes 2945
# of expected failures 1
# of unsupported tests 98
Running target mips-sim/-msoft-float/-EB
=== objc Summary for mips-sim/-msoft-float/-EB ===
# of expected passes 2945
# of expected failures 1
# of unsupported tests 98
Running target mips-sim/-msoft-float/-EL
=== objc Summary for mips-sim/-msoft-float/-EL ===
# of expected passes 2945
# of expected failures 1
# of unsupported tests 98
=== objc Summary ===
# of expected passes 11780
# of expected failures 4
# of unsupported tests 392
/home/rsandifo/gcc/gcc-4_7-branch/mips-elf/x86_64-unknown-linux-gnu/gcc/xgcc version 4.7.0 20120304 (prerelease) (GCC)
=== libstdc++ tests ===
Running target mips-sim/-EB
=== libstdc++ Summary for mips-sim/-EB ===
# of expected passes 6757
# of expected failures 42
# of unsupported tests 596
Running target mips-sim/-EL
=== libstdc++ Summary for mips-sim/-EL ===
# of expected passes 6757
# of expected failures 42
# of unsupported tests 596
Running target mips-sim/-msoft-float/-EB
=== libstdc++ Summary for mips-sim/-msoft-float/-EB ===
# of expected passes 6757
# of expected failures 42
# of unsupported tests 596
Running target mips-sim/-msoft-float/-EL
=== libstdc++ Summary for mips-sim/-msoft-float/-EL ===
# of expected passes 6757
# of expected failures 42
# of unsupported tests 596
=== libstdc++ Summary ===
# of expected passes 27028
# of expected failures 168
# of unsupported tests 2384
=== libstdc++ Summary ===
Compiler version: 4.7.0 20120304 (prerelease) (GCC)
Platform: mips-unknown-elf
configure flags: --enable-languages=c,c++,objc --with-newlib