This is the mail archive of the
gcc-testresults@gcc.gnu.org
mailing list for the GCC project.
ACATS results for 20111201 (experimental) [trunk revision 181881] on powerpc-rtems4.11
- From: Joel Sherrill <joel at rtems dot org>
- To: gcc-testresults at gcc dot gnu dot org, rtems-tooltestresults at rtems dot org
- Date: Fri, 02 Dec 2011 00:11:11 -0600
- Subject: ACATS results for 20111201 (experimental) [trunk revision 181881] on powerpc-rtems4.11
HOST: x86_64-unknown-linux-gnu
powerpc-rtems4.11-gcc (GCC) 4.7.0 20111201 (experimental) [trunk revision 181881]
=== acats Summary ===
# of expected passes 2310
# of unexpected failures 9
# of unsupported tests 3
ce2108f - simulator does not have persistent files
ce2108h - simulator does not have persistent files
ce3112d - simulator does not have persistent files
c380004 - unknown reason for failure
c52103x - unknown reason for failure
c52104x - unknown reason for failure
c52104y - unknown reason for failure
cb1010a - unknown reason for failure
cb1010c - unknown reason for failure
cb1010d - unknown reason for failure
cxa5012 - unknown reason for failure
templat - unknown reason for failure
======= Logs for failed tests ======