This is the mail archive of the
gcc-testresults@gcc.gnu.org
mailing list for the GCC project.
Results for 4.7.0 20110318 (experimental) [trunk revision 171156] (GCC) testsuite on sparc-sun-solaris2.10
- From: ro at CeBiTec dot Uni-Bielefeld dot DE (Rainer Orth)
- To: gcc-testresults at gcc dot gnu dot org
- Date: Mon, 21 Mar 2011 10:57:26 +0100 (CET)
- Subject: Results for 4.7.0 20110318 (experimental) [trunk revision 171156] (GCC) testsuite on sparc-sun-solaris2.10
LAST_UPDATED: Fri Mar 18 18:11:24 UTC 2011 (revision 171156)
Native configuration is sparc-sun-solaris2.10
=== g++ tests ===
Running target unix
=== g++ Summary for unix ===
# of expected passes 26202
# of expected failures 163
# of unsupported tests 427
Running target unix/-m64
=== g++ Summary for unix/-m64 ===
# of expected passes 26814
# of expected failures 163
# of unsupported tests 424
=== g++ Summary ===
# of expected passes 53016
# of expected failures 326
# of unsupported tests 851
/var/gcc/regression/trunk/10-gcc-gas/build/gcc/testsuite/g++/../../g++ version 4.7.0 20110318 (experimental) [trunk revision 171156] (GCC)
=== gcc tests ===
Running target unix
=== gcc Summary for unix ===
# of expected passes 69458
# of expected failures 236
# of unsupported tests 1161
Running target unix/-m64
=== gcc Summary for unix/-m64 ===
# of expected passes 70096
# of expected failures 227
# of unsupported tests 1166
=== gcc Summary ===
# of expected passes 139554
# of expected failures 463
# of unsupported tests 2327
/var/gcc/regression/trunk/10-gcc-gas/build/gcc/xgcc version 4.7.0 20110318 (experimental) [trunk revision 171156] (GCC)
=== gfortran tests ===
Running target unix
=== gfortran Summary for unix ===
# of expected passes 38137
# of expected failures 43
# of unsupported tests 265
Running target unix/-m64
=== gfortran Summary for unix/-m64 ===
# of expected passes 38464
# of expected failures 43
# of unsupported tests 104
=== gfortran Summary ===
# of expected passes 76601
# of expected failures 86
# of unsupported tests 369
/var/gcc/regression/trunk/10-gcc-gas/build/gcc/testsuite/gfortran/../../gfortran version 4.7.0 20110318 (experimental) [trunk revision 171156] (GCC)
=== objc tests ===
Running target unix
=== objc Summary for unix ===
# of expected passes 2914
# of expected failures 10
# of unsupported tests 74
Running target unix/-m64
=== objc Summary for unix/-m64 ===
# of expected passes 2914
# of expected failures 10
# of unsupported tests 74
=== objc Summary ===
# of expected passes 5828
# of expected failures 20
# of unsupported tests 148
/var/gcc/regression/trunk/10-gcc-gas/build/gcc/xgcc version 4.7.0 20110318 (experimental) [trunk revision 171156] (GCC)
=== boehm-gc tests ===
Running target unix
=== boehm-gc Summary for unix ===
# of expected passes 12
# of unsupported tests 1
Running target unix/-m64
=== boehm-gc Summary for unix/-m64 ===
# of expected passes 12
# of unsupported tests 1
=== boehm-gc Summary ===
# of expected passes 24
# of unsupported tests 2
=== libffi tests ===
Running target unix
=== libffi Summary for unix ===
# of expected passes 1634
# of expected failures 10
# of unsupported tests 15
Running target unix/-m64
=== libffi Summary for unix/-m64 ===
# of expected passes 1634
# of expected failures 10
# of unsupported tests 15
=== libffi Summary ===
# of expected passes 3268
# of expected failures 20
# of unsupported tests 30
=== libgomp tests ===
Running target unix
=== libgomp Summary for unix ===
# of expected passes 2524
# of unsupported tests 9
Running target unix/-m64
=== libgomp Summary for unix/-m64 ===
# of expected passes 2524
# of unsupported tests 9
=== libgomp Summary ===
# of expected passes 5048
# of unsupported tests 18
=== libjava tests ===
Running target unix
=== libjava Summary for unix ===
# of expected passes 2574
Running target unix/-m64
=== libjava Summary for unix/-m64 ===
# of expected passes 2574
=== libjava Summary ===
# of expected passes 5148
=== libstdc++ tests ===
Running target unix
=== libstdc++ Summary for unix ===
# of expected passes 7360
# of expected failures 82
# of unsupported tests 460
Running target unix/-m64
=== libstdc++ Summary for unix/-m64 ===
# of expected passes 7360
# of expected failures 82
# of unsupported tests 460
=== libstdc++ Summary ===
# of expected passes 14720
# of expected failures 164
# of unsupported tests 920
Compiler version: 4.7.0 20110318 (experimental) [trunk revision 171156] (GCC)
Platform: sparc-sun-solaris2.10
configure flags: --prefix=/vol/gcc --target=sparc-sun-solaris2.10 --with-as=/vol/gcc/bin/gas-2.21 --with-gnu-as --with-gmp=/vol/gcc --with-mpfr=/vol/gcc --with-mpc=/vol/gcc --enable-languages=all,ada --enable-languages=all
BOOT_CFLAGS=-g -O2