This is the mail archive of the
gcc-testresults@gcc.gnu.org
mailing list for the GCC project.
ACATS results for 20110217 (experimental) [trunk revision 170245] on sparc64-rtems4.11
- From: Joel Sherrill <joel at rtems dot org>
- To: gcc-testresults at gcc dot gnu dot org, rtems-tooltestresults at rtems dot org
- Date: Sun, 20 Feb 2011 05:40:31 -0600
- Subject: ACATS results for 20110217 (experimental) [trunk revision 170245] on sparc64-rtems4.11
HOST: x86_64-unknown-linux-gnu
sparc64-rtems4.11-gcc (GCC) 4.6.0 20110217 (experimental) [trunk revision 170245]
=== acats Summary ===
# of expected passes 2318
# of unexpected failures 1
# of unsupported tests 3
ce2108f - simulator does not have persistent files
ce2108h - simulator does not have persistent files
ce3112d - simulator does not have persistent files
cd2a83c - unknown reason for failure
======= Logs for failed tests ======