This is the mail archive of the
gcc-testresults@gcc.gnu.org
mailing list for the GCC project.
Results for 4.5.2 20100916 (prerelease) (GCC) testsuite on i686-pc-linux-gnu
- From: CodeSourcery Automatic Testing System <gcc at codesourcery dot com>
- To: gcc-testresults at gcc dot gnu dot org
- Date: Thu, 16 Sep 2010 14:04:00 -0700 (PDT)
- Subject: Results for 4.5.2 20100916 (prerelease) (GCC) testsuite on i686-pc-linux-gnu
LAST_UPDATED: Thu Sep 16 09:18:43 UTC 2010 (/branches/gcc-4_5-branch revision 164328)
Native configuration is i686-pc-linux-gnu
=== g++ tests ===
Running target localhost
=== g++ Summary ===
# of expected passes 23286
# of expected failures 151
# of unsupported tests 114
/scratch/gcc/nightly-2010-09-15-4.5/i686-pc-linux-gnu/obj/test-4.5-0-i686-pc-linux-gnu/host-i686-pc-linux-gnu/fsf-4.5/bin/i686-pc-linux-gnu-g++ version 4.5.2 20100916 (prerelease) (GCC)
=== gcc tests ===
Running target localhost
=== gcc Summary ===
# of expected passes 72412
# of expected failures 178
# of unsupported tests 591
/scratch/gcc/nightly-2010-09-15-4.5/i686-pc-linux-gnu/obj/test-4.5-0-i686-pc-linux-gnu/host-i686-pc-linux-gnu/fsf-4.5/bin/i686-pc-linux-gnu-gcc version 4.5.2 20100916 (prerelease) (GCC)
=== libstdc++ tests ===
Running target localhost
=== libstdc++ Summary ===
# of expected passes 7055
# of expected failures 95
# of unsupported tests 343
=== g++ tests ===
Running target localhost/-m64
=== g++ Summary ===
# of expected passes 22888
# of expected failures 151
# of unsupported tests 305
/scratch/gcc/nightly-2010-09-15-4.5/i686-pc-linux-gnu/obj/test-4.5-0-i686-pc-linux-gnu/host-i686-pc-linux-gnu/fsf-4.5/bin/i686-pc-linux-gnu-g++ version 4.5.2 20100916 (prerelease) (GCC)
=== gcc tests ===
Running target localhost/-m64
=== gcc Summary ===
# of expected passes 71943
# of expected failures 177
# of unsupported tests 944
/scratch/gcc/nightly-2010-09-15-4.5/i686-pc-linux-gnu/obj/test-4.5-0-i686-pc-linux-gnu/host-i686-pc-linux-gnu/fsf-4.5/bin/i686-pc-linux-gnu-gcc version 4.5.2 20100916 (prerelease) (GCC)
=== libstdc++ tests ===
Running target localhost/-m64
=== libstdc++ Summary ===
# of expected passes 7055
# of expected failures 95
# of unsupported tests 343
Compiler version: 4.5.2 20100916 (prerelease) (GCC)
Platform: i686-pc-linux-gnu
configure flags: --build=i686-pc-linux-gnu --host=i686-pc-linux-gnu --target=i686-pc-linux-gnu --enable-threads --disable-libmudflap --disable-libssp --disable-libstdcxx-pch --enable-targets=all --with-gnu-as --with-gnu-ld --enable-languages=c,c++ --enable-shared --enable-lto --disable-nls --prefix=/opt/codesourcery --with-gmp=/scratch/gcc/nightly-2010-09-15-4.5/i686-pc-linux-gnu/obj/host-libs-4.5-0-i686-pc-linux-gnu-i686-pc-linux-gnu/usr --with-mpfr=/scratch/gcc/nightly-2010-09-15-4.5/i686-pc-linux-gnu/obj/host-libs-4.5-0-i686-pc-linux-gnu-i686-pc-linux-gnu/usr --with-mpc=/scratch/gcc/nightly-2010-09-15-4.5/i686-pc-linux-gnu/obj/host-libs-4.5-0-i686-pc-linux-gnu-i686-pc-linux-gnu/usr --with-ppl=/scratch/gcc/nightly-2010-09-15-4.5/i686-pc-linux-gnu/obj/host-libs-4.5-0-i686-pc-linux-gnu-i686-pc-linux-gnu/usr --with-host-libstdcxx='-L/usr/local/tools/gcc-4.3.3/i686-pc-linux-gnu/lib -static-libgcc -Wl,-Bstatic,-lstdc++,-Bdynamic -lm' --with-cloog=/scratch/gcc/nightly-2010-09-15-
4.5/i686-pc-linux-gnu/obj/host-libs-4.5-0-i686-pc-linux-gnu-i686-pc-linux-gnu/usr --with-libelf=/scratch/gcc/nightly-2010-09-15-4.5/i686-pc-linux-gnu/obj/host-libs-4.5-0-i686-pc-linux-gnu-i686-pc-linux-gnu/usr --disable-libgomp --with-build-time-tools=/scratch/gcc/nightly-2010-09-15-4.5/i686-pc-linux-gnu/install/i686-pc-linux-gnu/bin --with-build-time-tools=/scratch/gcc/nightly-2010-09-15-4.5/i686-pc-linux-gnu/install/i686-pc-linux-gnu/bin