This is the mail archive of the
gcc-testresults@gcc.gnu.org
mailing list for the GCC project.
ACATS results for 20100428 (experimental) [trunk revision 158844] on lm32-rtems4.10
- From: "Joel Sherrill <joel dot sherrill at OARcorp dot com>" <joel at rtems dot org>
- To: gcc-testresults at gcc dot gnu dot org, rtems-tooltestresults at rtems dot org
- Date: Fri, 30 Apr 2010 03:18:05 -0500
- Subject: ACATS results for 20100428 (experimental) [trunk revision 158844] on lm32-rtems4.10
HOST: x86_64-unknown-linux-gnu
lm32-rtems4.10-gcc (GCC) 4.6.0 20100428 (experimental) [trunk revision 158844]
=== acats Summary ===
======= Logs for failed tests ======