This is the mail archive of the
gcc-testresults@gcc.gnu.org
mailing list for the GCC project.
ACATS results for 20100409 (experimental) [trunk revision 158165] on i386-rtems4.10
- From: "Joel Sherrill <joel dot sherrill at OARcorp dot com>" <joel at rtems dot org>
- To: gcc-testresults at gcc dot gnu dot org, rtems-tooltestresults at rtems dot org
- Date: Mon, 12 Apr 2010 00:33:59 -0500
- Subject: ACATS results for 20100409 (experimental) [trunk revision 158165] on i386-rtems4.10
HOST: x86_64-unknown-linux-gnu
i386-rtems4.10-gcc (GCC) 4.6.0 20100409 (experimental) [trunk revision 158165]
=== acats Summary ===
# of expected passes 2293
# of unexpected failures 26
# of unsupported tests 3
ce2108f - simulator does not have persistent files
ce2108h - simulator does not have persistent files
ce3112d - simulator does not have persistent files
c380004 - unknown reason for failure
c52103x - unknown reason for failure
c52104x - unknown reason for failure
c52104y - unknown reason for failure
c953002 - ran too long, some output
cb1010a - unknown reason for failure
cb1010c - unknown reason for failure
cb1010d - unknown reason for failure
cxg2002 - FPU precision issue on qemu
cxg2003 - FPU precision issue on qemu
cxg2004 - FPU precision issue on qemu
cxg2006 - FPU precision issue on qemu
cxg2007 - FPU precision issue on qemu
cxg2010 - FPU precision issue on qemu
cxg2011 - FPU precision issue on qemu
cxg2012 - FPU precision issue on qemu
cxg2013 - FPU precision issue on qemu
cxg2014 - ran too long, some output
cxg2015 - FPU precision issue on qemu
cxg2016 - FPU precision issue on qemu
cxg2017 - FPU precision issue on qemu
cxg2018 - FPU precision issue on qemu
cxg2019 - FPU precision issue on qemu
cxg2020 - FPU precision issue on qemu
cxg2021 - FPU precision issue on qemu
templat - unknown reason for failure
======= Logs for failed tests ======