This is the mail archive of the
gcc-testresults@gcc.gnu.org
mailing list for the GCC project.
Results for gcc 4.5.0 20090625 (experimental) - gcc testsuite on crx-unknown-elf
- From: "M R Swami Reddy" <MR dot Swami dot Reddy at nsc dot com>
- To: gcc-testresults at gcc dot gnu dot org
- Date: Tue, 30 Jun 2009 14:42:33 +0530
- Subject: Results for gcc 4.5.0 20090625 (experimental) - gcc testsuite on crx-unknown-elf
Hello All,
Test results run on crx-unknown-elf target attached. [Used a functional
simulator as target-board]
NOTE: Above test performed with "Hookize FRAME_POINTER_REQUIRED" patch
applied for CRX target.
[http://gcc.gnu.org/ml/gcc-patches/2009-06/msg01996.html]
Target is crx-unknown-elf
Host is i686-pc-linux-gnu
GNU ld (GNU Binutils) 2.19.51.20090209
GNU assembler (GNU Binutils) 2.19.51.20090209
GNU Make 3.81
DejaGnu:
Expect version is 5.38.0
Framework version is 1.4.4
=== gcc Summary ===
# of expected passes 46468
# of unexpected failures 1822
# of unexpected successes 2
# of expected failures 71
# of unresolved testcases 908
# of unsupported tests 777
/scratch/common/users/swami/crx/b-native-trunk/gcc/xgcc version 4.5.0
20090625 (experimental) (GCC)
=== g++ Summary ===
# of expected passes 16134
# of unexpected failures 1356
# of expected failures 145
# of unresolved testcases 190
# of unsupported tests 227
/scratch/common/users/swami/crx/b-native-trunk/gcc/testsuite/g++/../../g++
version 4.5.0 20090625 (experimental) (GCC)
Thanks
Swami
Attachment:
gcc.sum.bz2
Description: Binary data
Attachment:
g++.sum.bz2
Description: Binary data